BEGIN:VCALENDAR
VERSION:2.0
PRODID:-//The Belleville Club - ECPv6.15.20//NONSGML v1.0//EN
CALSCALE:GREGORIAN
METHOD:PUBLISH
X-WR-CALNAME:The Belleville Club
X-ORIGINAL-URL:https://bellevilleclub.ca
X-WR-CALDESC:Events for The Belleville Club
REFRESH-INTERVAL;VALUE=DURATION:PT1H
X-Robots-Tag:noindex
X-PUBLISHED-TTL:PT1H
BEGIN:VTIMEZONE
TZID:America/Toronto
BEGIN:DAYLIGHT
TZOFFSETFROM:-0500
TZOFFSETTO:-0400
TZNAME:EDT
DTSTART:20240310T070000
END:DAYLIGHT
BEGIN:STANDARD
TZOFFSETFROM:-0400
TZOFFSETTO:-0500
TZNAME:EST
DTSTART:20241103T060000
END:STANDARD
BEGIN:DAYLIGHT
TZOFFSETFROM:-0500
TZOFFSETTO:-0400
TZNAME:EDT
DTSTART:20250309T070000
END:DAYLIGHT
BEGIN:STANDARD
TZOFFSETFROM:-0400
TZOFFSETTO:-0500
TZNAME:EST
DTSTART:20251102T060000
END:STANDARD
BEGIN:DAYLIGHT
TZOFFSETFROM:-0500
TZOFFSETTO:-0400
TZNAME:EDT
DTSTART:20260308T070000
END:DAYLIGHT
BEGIN:STANDARD
TZOFFSETFROM:-0400
TZOFFSETTO:-0500
TZNAME:EST
DTSTART:20261101T060000
END:STANDARD
END:VTIMEZONE
BEGIN:VEVENT
DTSTART;TZID=America/Toronto:20251031T190000
DTEND;TZID=America/Toronto:20251101T003000
DTSTAMP:20260423T180302
CREATED:20251023T211012Z
LAST-MODIFIED:20251023T211057Z
UID:2685-1761937200-1761957000@bellevilleclub.ca
SUMMARY:CUE THE FUNK Halloween Party
DESCRIPTION:
URL:https://bellevilleclub.ca/event/cue-the-funk-halloween-party/
END:VEVENT
BEGIN:VEVENT
DTSTART;TZID=America/Toronto:20251101T170000
DTEND;TZID=America/Toronto:20251101T213000
DTSTAMP:20260423T180302
CREATED:20250718T201009Z
LAST-MODIFIED:20251023T211354Z
UID:749-1762016400-1762032600@bellevilleclub.ca
SUMMARY:Three Oaks Fundraiser
DESCRIPTION:
URL:https://bellevilleclub.ca/event/three-oaks-fundraiser/
END:VEVENT
END:VCALENDAR