BEGIN:VCALENDAR
VERSION:2.0
PRODID:-//The Belleville Club - ECPv6.15.20//NONSGML v1.0//EN
CALSCALE:GREGORIAN
METHOD:PUBLISH
X-WR-CALNAME:The Belleville Club
X-ORIGINAL-URL:https://bellevilleclub.ca
X-WR-CALDESC:Events for The Belleville Club
REFRESH-INTERVAL;VALUE=DURATION:PT1H
X-Robots-Tag:noindex
X-PUBLISHED-TTL:PT1H
BEGIN:VTIMEZONE
TZID:America/Toronto
BEGIN:DAYLIGHT
TZOFFSETFROM:-0500
TZOFFSETTO:-0400
TZNAME:EDT
DTSTART:20240310T070000
END:DAYLIGHT
BEGIN:STANDARD
TZOFFSETFROM:-0400
TZOFFSETTO:-0500
TZNAME:EST
DTSTART:20241103T060000
END:STANDARD
BEGIN:DAYLIGHT
TZOFFSETFROM:-0500
TZOFFSETTO:-0400
TZNAME:EDT
DTSTART:20250309T070000
END:DAYLIGHT
BEGIN:STANDARD
TZOFFSETFROM:-0400
TZOFFSETTO:-0500
TZNAME:EST
DTSTART:20251102T060000
END:STANDARD
BEGIN:DAYLIGHT
TZOFFSETFROM:-0500
TZOFFSETTO:-0400
TZNAME:EDT
DTSTART:20260308T070000
END:DAYLIGHT
BEGIN:STANDARD
TZOFFSETFROM:-0400
TZOFFSETTO:-0500
TZNAME:EST
DTSTART:20261101T060000
END:STANDARD
END:VTIMEZONE
BEGIN:VEVENT
DTSTART;TZID=America/Toronto:20251029T120000
DTEND;TZID=America/Toronto:20251029T150000
DTSTAMP:20260423T193628
CREATED:20251023T210835Z
LAST-MODIFIED:20251023T210835Z
UID:2683-1761739200-1761750000@bellevilleclub.ca
SUMMARY:Rushnell Funeral Home Event
DESCRIPTION:
URL:https://bellevilleclub.ca/event/rushnell-funeral-home-event/
END:VEVENT
BEGIN:VEVENT
DTSTART;TZID=America/Toronto:20251025T000000
DTEND;TZID=America/Toronto:20251025T235959
DTSTAMP:20260423T193628
CREATED:20250526T164711Z
LAST-MODIFIED:20250526T164711Z
UID:599-1761350400-1761436799@bellevilleclub.ca
SUMMARY:Wedding full Club Closed
DESCRIPTION:
URL:https://bellevilleclub.ca/event/wedding-full-club-closed/
END:VEVENT
BEGIN:VEVENT
DTSTART;TZID=America/Toronto:20251024T080000
DTEND;TZID=America/Toronto:20251024T170000
DTSTAMP:20260423T193628
CREATED:20250526T164735Z
LAST-MODIFIED:20250526T164735Z
UID:601-1761292800-1761325200@bellevilleclub.ca
SUMMARY:Wedding set up
DESCRIPTION:
URL:https://bellevilleclub.ca/event/wedding-set-up/
END:VEVENT
BEGIN:VEVENT
DTSTART;TZID=America/Toronto:20251021T170000
DTEND;TZID=America/Toronto:20251021T200000
DTSTAMP:20260423T193628
CREATED:20250718T200927Z
LAST-MODIFIED:20250718T200927Z
UID:747-1761066000-1761076800@bellevilleclub.ca
SUMMARY:Private Meeting Small Dining Room
DESCRIPTION:
URL:https://bellevilleclub.ca/event/private-meeting-small-dining-room-2/
END:VEVENT
BEGIN:VEVENT
DTSTART;TZID=America/Toronto:20251018T160000
DTEND;TZID=America/Toronto:20251018T230000
DTSTAMP:20260423T193628
CREATED:20250718T200845Z
LAST-MODIFIED:20250818T203855Z
UID:745-1760803200-1760828400@bellevilleclub.ca
SUMMARY:The Great Canadian Bourbon Tasting
DESCRIPTION:
URL:https://bellevilleclub.ca/event/belleville-club-bourbon-tasting-2/
END:VEVENT
BEGIN:VEVENT
DTSTART;TZID=America/Toronto:20251017T170000
DTEND;TZID=America/Toronto:20251017T220000
DTSTAMP:20260423T193628
CREATED:20250718T200800Z
LAST-MODIFIED:20250818T203621Z
UID:743-1760720400-1760738400@bellevilleclub.ca
SUMMARY:The Great Canadian Bourbon Tasting
DESCRIPTION:
URL:https://bellevilleclub.ca/event/belleville-club-bourbon-tasting/
END:VEVENT
BEGIN:VEVENT
DTSTART;TZID=America/Toronto:20251014T190000
DTEND;TZID=America/Toronto:20251014T223000
DTSTAMP:20260423T193628
CREATED:20250818T203503Z
LAST-MODIFIED:20250818T203503Z
UID:1250-1760468400-1760481000@bellevilleclub.ca
SUMMARY:Open Mic
DESCRIPTION:
URL:https://bellevilleclub.ca/event/open-mic-4/
END:VEVENT
BEGIN:VEVENT
DTSTART;TZID=America/Toronto:20251014T163000
DTEND;TZID=America/Toronto:20251014T190000
DTSTAMP:20260423T193628
CREATED:20250818T204948Z
LAST-MODIFIED:20250818T204948Z
UID:1276-1760459400-1760468400@bellevilleclub.ca
SUMMARY:Members Mingle
DESCRIPTION:
URL:https://bellevilleclub.ca/event/members-mingle-3/
END:VEVENT
BEGIN:VEVENT
DTSTART;TZID=America/Toronto:20251011T173000
DTEND;TZID=America/Toronto:20251011T230000
DTSTAMP:20260423T193628
CREATED:20250818T203415Z
LAST-MODIFIED:20250818T203415Z
UID:1248-1760203800-1760223600@bellevilleclub.ca
SUMMARY:Private Event
DESCRIPTION:
URL:https://bellevilleclub.ca/event/private-event-38/
END:VEVENT
BEGIN:VEVENT
DTSTART;TZID=America/Toronto:20251010T163000
DTEND;TZID=America/Toronto:20251010T233000
DTSTAMP:20260423T193628
CREATED:20250718T200716Z
LAST-MODIFIED:20250718T200716Z
UID:741-1760113800-1760139000@bellevilleclub.ca
SUMMARY:Private Event
DESCRIPTION:
URL:https://bellevilleclub.ca/event/private-event-29/
END:VEVENT
BEGIN:VEVENT
DTSTART;TZID=America/Toronto:20251009T170000
DTEND;TZID=America/Toronto:20251009T220000
DTSTAMP:20260423T193628
CREATED:20250718T200624Z
LAST-MODIFIED:20250818T203254Z
UID:739-1760029200-1760047200@bellevilleclub.ca
SUMMARY:Belleville Connects https://square.link/u/7sRR81bU
DESCRIPTION:Buying & Selling Businesses – Win-win Acquisition Strategies for Buyers and Sellers!  \n Join us for an insightful panel discussion on buying and selling businesses\, where industry experts will unravel the complexities and share strategies for creating win-win situations for both buyers and sellers. As highlighted in a 2023 report by The Globe and Mail \n“76% of business owners are planning to exit within the next decade\, potentially transferring over $2 trillion in assets. This presents a significant opportunity and challenge\, particularly for small and medium-sized enterprises (SMEs) with aging owners facing succession planning hurdles.” \nhat to Expect: \n\nExpert Panel Discussion: our esteemed panel includes professionals within the industry delving into crucial considerations for both selling and buying local businesses.\n\nBelleville Club Facilitator / Zo&Co Ventures: Zoltan Lorantffy\nSmall Business Centre: Luc Fournier\nBaldwin Law PC: Greg Parker\nBusiness Development Bank: Derrick Morgan\nRaven Capital: John McCubbin\n\n\nTarget Audience: This event is tailored for business owners looking to sell\, potential buyers or searchers\, lawyers\, accountants\, bankers\, and anyone interested in the realm of business transactions.\n\nActionable Takeaways: \n Understand the legal and financial intricacies involved in business transactions. \n\nLearn how to effectively plan to sell or buy a business and maximize the value of your transaction.\nDiscover financing options and support available from financial institutions and organizations right here in Belleville and Quinte.\n\nDate: Thursday October 9th\, 2025 \nRSVP now to secure your spot and gain the knowledge to navigate the world of business buying and selling with confidence! \n\n6:30pm-7:00pm Network & Mingle\n7:00pm-8:00pm Expert Panel Discussion\n8:00pm-8:30pm Q&A\n8:30pm-10:30pm Network & Mingle\n$25 / ticket (non-members)
URL:https://bellevilleclub.ca/event/belleville-connects-2/
END:VEVENT
BEGIN:VEVENT
DTSTART;TZID=America/Toronto:20251006T170000
DTEND;TZID=America/Toronto:20251006T200000
DTSTAMP:20260423T193628
CREATED:20250718T200548Z
LAST-MODIFIED:20250718T200548Z
UID:737-1759770000-1759780800@bellevilleclub.ca
SUMMARY:BDIA
DESCRIPTION:
URL:https://bellevilleclub.ca/event/bdia-4/
END:VEVENT
BEGIN:VEVENT
DTSTART;TZID=America/Toronto:20251005T120000
DTEND;TZID=America/Toronto:20251005T170000
DTSTAMP:20260423T193628
CREATED:20250818T202750Z
LAST-MODIFIED:20250818T202750Z
UID:1242-1759665600-1759683600@bellevilleclub.ca
SUMMARY:Celebration of LIfe
DESCRIPTION:
URL:https://bellevilleclub.ca/event/celebration-of-life-3/
END:VEVENT
BEGIN:VEVENT
DTSTART;TZID=America/Toronto:20251004T170000
DTEND;TZID=America/Toronto:20251004T233000
DTSTAMP:20260423T193628
CREATED:20250526T164633Z
LAST-MODIFIED:20250526T164633Z
UID:597-1759597200-1759620600@bellevilleclub.ca
SUMMARY:Private Event
DESCRIPTION:
URL:https://bellevilleclub.ca/event/private-event-25/
END:VEVENT
BEGIN:VEVENT
DTSTART;TZID=America/Toronto:20250927T190000
DTEND;TZID=America/Toronto:20250927T233000
DTSTAMP:20260423T193628
CREATED:20250526T164541Z
LAST-MODIFIED:20250526T164541Z
UID:595-1758999600-1759015800@bellevilleclub.ca
SUMMARY:Porchfest
DESCRIPTION:
URL:https://bellevilleclub.ca/event/porchfest/
END:VEVENT
BEGIN:VEVENT
DTSTART;TZID=America/Toronto:20250926T170000
DTEND;TZID=America/Toronto:20250926T233000
DTSTAMP:20260423T193628
CREATED:20250526T164514Z
LAST-MODIFIED:20250526T164514Z
UID:593-1758906000-1758929400@bellevilleclub.ca
SUMMARY:Private Event
DESCRIPTION:
URL:https://bellevilleclub.ca/event/private-event-24/
END:VEVENT
BEGIN:VEVENT
DTSTART;TZID=America/Toronto:20250925T000000
DTEND;TZID=America/Toronto:20250925T235959
DTSTAMP:20260423T193628
CREATED:20250526T164445Z
LAST-MODIFIED:20250526T164445Z
UID:591-1758758400-1758844799@bellevilleclub.ca
SUMMARY:Private Event CIBC
DESCRIPTION:
URL:https://bellevilleclub.ca/event/private-event-cibc-2/
END:VEVENT
BEGIN:VEVENT
DTSTART;TZID=America/Toronto:20250924T170000
DTEND;TZID=America/Toronto:20250924T220000
DTSTAMP:20260423T193628
CREATED:20250718T195820Z
LAST-MODIFIED:20250718T195820Z
UID:735-1758733200-1758751200@bellevilleclub.ca
SUMMARY:Private Event
DESCRIPTION:
URL:https://bellevilleclub.ca/event/private-event-28/
END:VEVENT
BEGIN:VEVENT
DTSTART;TZID=America/Toronto:20250922T170000
DTEND;TZID=America/Toronto:20250922T210000
DTSTAMP:20260423T193628
CREATED:20250818T202636Z
LAST-MODIFIED:20250818T202636Z
UID:1240-1758560400-1758574800@bellevilleclub.ca
SUMMARY:Private Event EDA Board
DESCRIPTION:
URL:https://bellevilleclub.ca/event/private-event-eda-board/
END:VEVENT
BEGIN:VEVENT
DTSTART;TZID=America/Toronto:20250920T000000
DTEND;TZID=America/Toronto:20250920T235959
DTSTAMP:20260423T193628
CREATED:20250526T164411Z
LAST-MODIFIED:20250526T164411Z
UID:589-1758326400-1758412799@bellevilleclub.ca
SUMMARY:Wedding full Club Closure
DESCRIPTION:
URL:https://bellevilleclub.ca/event/wedding-full-club-closure/
END:VEVENT
BEGIN:VEVENT
DTSTART;TZID=America/Toronto:20250919T113000
DTEND;TZID=America/Toronto:20250919T143000
DTSTAMP:20260423T193628
CREATED:20250818T202428Z
LAST-MODIFIED:20250818T202540Z
UID:1238-1758281400-1758292200@bellevilleclub.ca
SUMMARY:Feel Good Friday Lunch https://square.link/u/d6CObqxQ
DESCRIPTION:
URL:https://bellevilleclub.ca/event/feel-good-friday-lunch-https-square-link-u-d6cobqxq/
END:VEVENT
BEGIN:VEVENT
DTSTART;TZID=America/Toronto:20250918T080000
DTEND;TZID=America/Toronto:20250918T170000
DTSTAMP:20260423T193628
CREATED:20250526T164338Z
LAST-MODIFIED:20250526T164338Z
UID:587-1758182400-1758214800@bellevilleclub.ca
SUMMARY:Private Event CIBC
DESCRIPTION:
URL:https://bellevilleclub.ca/event/private-event-cibc/
END:VEVENT
BEGIN:VEVENT
DTSTART;TZID=America/Toronto:20250917T180000
DTEND;TZID=America/Toronto:20250917T220000
DTSTAMP:20260423T193628
CREATED:20250526T164308Z
LAST-MODIFIED:20250526T164308Z
UID:585-1758132000-1758146400@bellevilleclub.ca
SUMMARY:Belleville Club AGM
DESCRIPTION:
URL:https://bellevilleclub.ca/event/belleville-club-agm/
END:VEVENT
BEGIN:VEVENT
DTSTART;TZID=America/Toronto:20250917T080000
DTEND;TZID=America/Toronto:20250917T170000
DTSTAMP:20260423T193628
CREATED:20250818T202225Z
LAST-MODIFIED:20250818T202225Z
UID:1236-1758096000-1758128400@bellevilleclub.ca
SUMMARY:Private Meeting BCI Room
DESCRIPTION:
URL:https://bellevilleclub.ca/event/private-meeting-bci-room-2/
END:VEVENT
BEGIN:VEVENT
DTSTART;TZID=America/Toronto:20250916T170000
DTEND;TZID=America/Toronto:20250916T190000
DTSTAMP:20260423T193628
CREATED:20250526T164223Z
LAST-MODIFIED:20250526T164223Z
UID:583-1758042000-1758049200@bellevilleclub.ca
SUMMARY:Rotary Private Meeting
DESCRIPTION:
URL:https://bellevilleclub.ca/event/rotary-private-meeting-3/
END:VEVENT
BEGIN:VEVENT
DTSTART;TZID=America/Toronto:20250916T080000
DTEND;TZID=America/Toronto:20250916T170000
DTSTAMP:20260423T193628
CREATED:20250818T202144Z
LAST-MODIFIED:20250818T202144Z
UID:1234-1758009600-1758042000@bellevilleclub.ca
SUMMARY:Private Meeting BCI Room
DESCRIPTION:
URL:https://bellevilleclub.ca/event/private-meeting-bci-room/
END:VEVENT
BEGIN:VEVENT
DTSTART;TZID=America/Toronto:20250915T180000
DTEND;TZID=America/Toronto:20250915T210000
DTSTAMP:20260423T193628
CREATED:20250526T164153Z
LAST-MODIFIED:20250526T164153Z
UID:581-1757959200-1757970000@bellevilleclub.ca
SUMMARY:100 Men
DESCRIPTION:
URL:https://bellevilleclub.ca/event/100-men-2/
END:VEVENT
BEGIN:VEVENT
DTSTART;TZID=America/Toronto:20250914T130000
DTEND;TZID=America/Toronto:20250914T160000
DTSTAMP:20260423T193628
CREATED:20250718T195717Z
LAST-MODIFIED:20250718T195717Z
UID:733-1757854800-1757865600@bellevilleclub.ca
SUMMARY:Private Event Celebration of Life
DESCRIPTION:
URL:https://bellevilleclub.ca/event/private-event-celebration-of-life-2/
END:VEVENT
BEGIN:VEVENT
DTSTART;TZID=America/Toronto:20250913T160000
DTEND;TZID=America/Toronto:20250913T210000
DTSTAMP:20260423T193628
CREATED:20250718T195447Z
LAST-MODIFIED:20250818T201154Z
UID:731-1757779200-1757797200@bellevilleclub.ca
SUMMARY:Beautiful View Music Festival
DESCRIPTION:
URL:https://bellevilleclub.ca/event/beautiful-view-music-festival/
END:VEVENT
BEGIN:VEVENT
DTSTART;TZID=America/Toronto:20250913T110000
DTEND;TZID=America/Toronto:20250913T150000
DTSTAMP:20260423T193628
CREATED:20250526T164130Z
LAST-MODIFIED:20250718T195613Z
UID:579-1757761200-1757775600@bellevilleclub.ca
SUMMARY:Private Event
DESCRIPTION:
URL:https://bellevilleclub.ca/event/private-event-23/
END:VEVENT
END:VCALENDAR