BEGIN:VCALENDAR
VERSION:2.0
PRODID:-//The Belleville Club - ECPv6.15.20//NONSGML v1.0//EN
CALSCALE:GREGORIAN
METHOD:PUBLISH
X-WR-CALNAME:The Belleville Club
X-ORIGINAL-URL:https://bellevilleclub.ca
X-WR-CALDESC:Events for The Belleville Club
REFRESH-INTERVAL;VALUE=DURATION:PT1H
X-Robots-Tag:noindex
X-PUBLISHED-TTL:PT1H
BEGIN:VTIMEZONE
TZID:America/Toronto
BEGIN:DAYLIGHT
TZOFFSETFROM:-0500
TZOFFSETTO:-0400
TZNAME:EDT
DTSTART:20240310T070000
END:DAYLIGHT
BEGIN:STANDARD
TZOFFSETFROM:-0400
TZOFFSETTO:-0500
TZNAME:EST
DTSTART:20241103T060000
END:STANDARD
BEGIN:DAYLIGHT
TZOFFSETFROM:-0500
TZOFFSETTO:-0400
TZNAME:EDT
DTSTART:20250309T070000
END:DAYLIGHT
BEGIN:STANDARD
TZOFFSETFROM:-0400
TZOFFSETTO:-0500
TZNAME:EST
DTSTART:20251102T060000
END:STANDARD
BEGIN:DAYLIGHT
TZOFFSETFROM:-0500
TZOFFSETTO:-0400
TZNAME:EDT
DTSTART:20260308T070000
END:DAYLIGHT
BEGIN:STANDARD
TZOFFSETFROM:-0400
TZOFFSETTO:-0500
TZNAME:EST
DTSTART:20261101T060000
END:STANDARD
END:VTIMEZONE
BEGIN:VEVENT
DTSTART;TZID=America/Toronto:20251105T080000
DTEND;TZID=America/Toronto:20251105T170000
DTSTAMP:20260423T193345
CREATED:20251023T211554Z
LAST-MODIFIED:20251023T211554Z
UID:2689-1762329600-1762362000@bellevilleclub.ca
SUMMARY:Closed for Mainenance
DESCRIPTION:
URL:https://bellevilleclub.ca/event/closed-for-mainenance/
END:VEVENT
BEGIN:VEVENT
DTSTART;TZID=America/Toronto:20251106T080000
DTEND;TZID=America/Toronto:20251106T170000
DTSTAMP:20260423T193345
CREATED:20251023T211619Z
LAST-MODIFIED:20251023T211619Z
UID:2691-1762416000-1762448400@bellevilleclub.ca
SUMMARY:Club Closed for Maintenance
DESCRIPTION:
URL:https://bellevilleclub.ca/event/club-closed-for-maintenance/
END:VEVENT
BEGIN:VEVENT
DTSTART;TZID=America/Toronto:20251107T180000
DTEND;TZID=America/Toronto:20251107T233000
DTSTAMP:20260423T193345
CREATED:20250818T204036Z
LAST-MODIFIED:20250818T204036Z
UID:1254-1762538400-1762558200@bellevilleclub.ca
SUMMARY:Private Event
DESCRIPTION:
URL:https://bellevilleclub.ca/event/private-event-39/
END:VEVENT
BEGIN:VEVENT
DTSTART;TZID=America/Toronto:20251108T180000
DTEND;TZID=America/Toronto:20251108T233000
DTSTAMP:20260423T193345
CREATED:20250127T221026Z
LAST-MODIFIED:20250127T221026Z
UID:255-1762624800-1762644600@bellevilleclub.ca
SUMMARY:BSRC FUNDRAISER 2025
DESCRIPTION:
URL:https://bellevilleclub.ca/event/bsrc-fundraiser-2025/
END:VEVENT
BEGIN:VEVENT
DTSTART;TZID=America/Toronto:20251109T110000
DTEND;TZID=America/Toronto:20251109T160000
DTSTAMP:20260423T193345
CREATED:20250818T204121Z
LAST-MODIFIED:20250818T204121Z
UID:1256-1762686000-1762704000@bellevilleclub.ca
SUMMARY:Celebration of Life
DESCRIPTION:
URL:https://bellevilleclub.ca/event/celebration-of-life-4/
END:VEVENT
BEGIN:VEVENT
DTSTART;TZID=America/Toronto:20251110T170000
DTEND;TZID=America/Toronto:20251110T200000
DTSTAMP:20260423T193345
CREATED:20250718T201042Z
LAST-MODIFIED:20250718T201042Z
UID:751-1762794000-1762804800@bellevilleclub.ca
SUMMARY:BDIA
DESCRIPTION:
URL:https://bellevilleclub.ca/event/bdia-5/
END:VEVENT
BEGIN:VEVENT
DTSTART;TZID=America/Toronto:20251111T160000
DTEND;TZID=America/Toronto:20251111T190000
DTSTAMP:20260423T193345
CREATED:20250718T201208Z
LAST-MODIFIED:20250718T201208Z
UID:755-1762876800-1762887600@bellevilleclub.ca
SUMMARY:Members Only Mingle
DESCRIPTION:
URL:https://bellevilleclub.ca/event/members-only-mingle-3/
END:VEVENT
BEGIN:VEVENT
DTSTART;TZID=America/Toronto:20251111T190000
DTEND;TZID=America/Toronto:20251111T223000
DTSTAMP:20260423T193345
CREATED:20250718T201132Z
LAST-MODIFIED:20250718T201132Z
UID:753-1762887600-1762900200@bellevilleclub.ca
SUMMARY:Open Mic all welcome
DESCRIPTION:
URL:https://bellevilleclub.ca/event/open-mic-all-welcome-6/
END:VEVENT
BEGIN:VEVENT
DTSTART;TZID=America/Toronto:20251112T090000
DTEND;TZID=America/Toronto:20251112T200000
DTSTAMP:20260423T193345
CREATED:20251110T221416Z
LAST-MODIFIED:20251110T221416Z
UID:2718-1762938000-1762977600@bellevilleclub.ca
SUMMARY:Club Maintenance
DESCRIPTION:
URL:https://bellevilleclub.ca/event/club-maintenance/
END:VEVENT
BEGIN:VEVENT
DTSTART;TZID=America/Toronto:20251114T170000
DTEND;TZID=America/Toronto:20251114T233000
DTSTAMP:20260423T193345
CREATED:20251023T211836Z
LAST-MODIFIED:20251023T211836Z
UID:2695-1763139600-1763163000@bellevilleclub.ca
SUMMARY:Private Event
DESCRIPTION:
URL:https://bellevilleclub.ca/event/private-event-42/
END:VEVENT
BEGIN:VEVENT
DTSTART;TZID=America/Toronto:20251115T090000
DTEND;TZID=America/Toronto:20251115T150000
DTSTAMP:20260423T193345
CREATED:20250526T164857Z
LAST-MODIFIED:20250526T164857Z
UID:603-1763197200-1763218800@bellevilleclub.ca
SUMMARY:Private Luncheon
DESCRIPTION:
URL:https://bellevilleclub.ca/event/private-luncheon/
END:VEVENT
BEGIN:VEVENT
DTSTART;TZID=America/Toronto:20251115T180000
DTEND;TZID=America/Toronto:20251115T233000
DTSTAMP:20260423T193345
CREATED:20250818T204205Z
LAST-MODIFIED:20250818T204205Z
UID:1258-1763229600-1763249400@bellevilleclub.ca
SUMMARY:Private Event
DESCRIPTION:
URL:https://bellevilleclub.ca/event/private-event-40/
END:VEVENT
BEGIN:VEVENT
DTSTART;TZID=America/Toronto:20251116T180000
DTEND;TZID=America/Toronto:20251116T210000
DTSTAMP:20260423T193345
CREATED:20250718T201328Z
LAST-MODIFIED:20250818T205042Z
UID:759-1763316000-1763326800@bellevilleclub.ca
SUMMARY:Santa Claus Parade Members Only
DESCRIPTION:
URL:https://bellevilleclub.ca/event/santa-claus-parade/
END:VEVENT
BEGIN:VEVENT
DTSTART;TZID=America/Toronto:20251118T170000
DTEND;TZID=America/Toronto:20251118T200000
DTSTAMP:20260423T193345
CREATED:20250718T201403Z
LAST-MODIFIED:20250718T201403Z
UID:761-1763485200-1763496000@bellevilleclub.ca
SUMMARY:Private Meeting Small Dining Room
DESCRIPTION:
URL:https://bellevilleclub.ca/event/private-meeting-small-dining-room-3/
END:VEVENT
BEGIN:VEVENT
DTSTART;TZID=America/Toronto:20251119T170000
DTEND;TZID=America/Toronto:20251119T190000
DTSTAMP:20260423T193345
CREATED:20251023T211943Z
LAST-MODIFIED:20251023T211943Z
UID:2697-1763571600-1763578800@bellevilleclub.ca
SUMMARY:TBC Board Meeting
DESCRIPTION:
URL:https://bellevilleclub.ca/event/tbc-board-meeting/
END:VEVENT
BEGIN:VEVENT
DTSTART;TZID=America/Toronto:20251120T183000
DTEND;TZID=America/Toronto:20251120T230000
DTSTAMP:20260423T193345
CREATED:20250718T201248Z
LAST-MODIFIED:20251023T212424Z
UID:757-1763663400-1763679600@bellevilleclub.ca
SUMMARY:Belleville Club Whisky Tasting
DESCRIPTION:
URL:https://bellevilleclub.ca/event/belleville-club-whiskey-tasting/
END:VEVENT
BEGIN:VEVENT
DTSTART;TZID=America/Toronto:20251121T160000
DTEND;TZID=America/Toronto:20251121T233000
DTSTAMP:20260423T193345
CREATED:20250718T201458Z
LAST-MODIFIED:20250718T201458Z
UID:763-1763740800-1763767800@bellevilleclub.ca
SUMMARY:Private
DESCRIPTION:
URL:https://bellevilleclub.ca/event/private-3/
END:VEVENT
BEGIN:VEVENT
DTSTART;TZID=America/Toronto:20251122T000000
DTEND;TZID=America/Toronto:20251122T235959
DTSTAMP:20260423T193345
CREATED:20250718T201535Z
LAST-MODIFIED:20250718T201535Z
UID:765-1763769600-1763855999@bellevilleclub.ca
SUMMARY:Wedding Full Club Closure
DESCRIPTION:
URL:https://bellevilleclub.ca/event/wedding-full-club-closure-2/
END:VEVENT
BEGIN:VEVENT
DTSTART;TZID=America/Toronto:20251123T100000
DTEND;TZID=America/Toronto:20251123T170000
DTSTAMP:20260423T193345
CREATED:20251023T212619Z
LAST-MODIFIED:20251023T212802Z
UID:2701-1763892000-1763917200@bellevilleclub.ca
SUMMARY:Belleville Arts Association Art Show
DESCRIPTION:
URL:https://bellevilleclub.ca/event/belleville-arts-association-art-show/
END:VEVENT
BEGIN:VEVENT
DTSTART;TZID=America/Toronto:20251124T170000
DTEND;TZID=America/Toronto:20251124T210000
DTSTAMP:20260423T193345
CREATED:20250718T201621Z
LAST-MODIFIED:20250718T201621Z
UID:767-1764003600-1764018000@bellevilleclub.ca
SUMMARY:100 Men
DESCRIPTION:
URL:https://bellevilleclub.ca/event/100-men-3/
END:VEVENT
BEGIN:VEVENT
DTSTART;TZID=America/Toronto:20251125T170000
DTEND;TZID=America/Toronto:20251125T210000
DTSTAMP:20260423T193345
CREATED:20251023T212903Z
LAST-MODIFIED:20251023T212903Z
UID:2703-1764090000-1764104400@bellevilleclub.ca
SUMMARY:Private Event
DESCRIPTION:
URL:https://bellevilleclub.ca/event/private-event-43/
END:VEVENT
BEGIN:VEVENT
DTSTART;TZID=America/Toronto:20251126T170000
DTEND;TZID=America/Toronto:20251126T220000
DTSTAMP:20260423T193345
CREATED:20251023T213027Z
LAST-MODIFIED:20251023T213027Z
UID:2706-1764176400-1764194400@bellevilleclub.ca
SUMMARY:Quinte Woman in Business
DESCRIPTION:
URL:https://bellevilleclub.ca/event/quinte-woman-in-business/
END:VEVENT
BEGIN:VEVENT
DTSTART;TZID=America/Toronto:20251127T170000
DTEND;TZID=America/Toronto:20251127T220000
DTSTAMP:20260423T193345
CREATED:20251023T213103Z
LAST-MODIFIED:20251023T213103Z
UID:2708-1764262800-1764280800@bellevilleclub.ca
SUMMARY:Private Event
DESCRIPTION:
URL:https://bellevilleclub.ca/event/private-event-44/
END:VEVENT
BEGIN:VEVENT
DTSTART;TZID=America/Toronto:20251128T000000
DTEND;TZID=America/Toronto:20251128T235959
DTSTAMP:20260423T193345
CREATED:20250127T221108Z
LAST-MODIFIED:20250127T221108Z
UID:257-1764288000-1764374399@bellevilleclub.ca
SUMMARY:PRIVATE
DESCRIPTION:
URL:https://bellevilleclub.ca/event/private/
END:VEVENT
BEGIN:VEVENT
DTSTART;TZID=America/Toronto:20251128T000000
DTEND;TZID=America/Toronto:20251128T235959
DTSTAMP:20260423T193345
CREATED:20250718T201648Z
LAST-MODIFIED:20250718T201648Z
UID:769-1764288000-1764374399@bellevilleclub.ca
SUMMARY:Private Event
DESCRIPTION:
URL:https://bellevilleclub.ca/event/private-event-30/
END:VEVENT
BEGIN:VEVENT
DTSTART;TZID=America/Toronto:20251129T000000
DTEND;TZID=America/Toronto:20251129T235959
DTSTAMP:20260423T193345
CREATED:20250127T221135Z
LAST-MODIFIED:20250127T221135Z
UID:259-1764374400-1764460799@bellevilleclub.ca
SUMMARY:PRIVATE PARTY
DESCRIPTION:
URL:https://bellevilleclub.ca/event/private-party/
END:VEVENT
BEGIN:VEVENT
DTSTART;TZID=America/Toronto:20251129T000000
DTEND;TZID=America/Toronto:20251129T235959
DTSTAMP:20260423T193345
CREATED:20250718T201713Z
LAST-MODIFIED:20250718T201713Z
UID:771-1764374400-1764460799@bellevilleclub.ca
SUMMARY:Private Event
DESCRIPTION:
URL:https://bellevilleclub.ca/event/private-event-31/
END:VEVENT
BEGIN:VEVENT
DTSTART;TZID=America/Toronto:20251201T170000
DTEND;TZID=America/Toronto:20251201T233000
DTSTAMP:20260423T193345
CREATED:20251110T222431Z
LAST-MODIFIED:20251110T222431Z
UID:2736-1764608400-1764631800@bellevilleclub.ca
SUMMARY:Private Event
DESCRIPTION:
URL:https://bellevilleclub.ca/event/private-event-47/
END:VEVENT
BEGIN:VEVENT
DTSTART;TZID=America/Toronto:20251203T170000
DTEND;TZID=America/Toronto:20251203T233000
DTSTAMP:20260423T193345
CREATED:20250818T204312Z
LAST-MODIFIED:20250818T204312Z
UID:1260-1764781200-1764804600@bellevilleclub.ca
SUMMARY:EDA Private Event
DESCRIPTION:
URL:https://bellevilleclub.ca/event/eda-private-event/
END:VEVENT
BEGIN:VEVENT
DTSTART;TZID=America/Toronto:20251204T170000
DTEND;TZID=America/Toronto:20251204T190000
DTSTAMP:20260423T193345
CREATED:20250718T201748Z
LAST-MODIFIED:20250718T201748Z
UID:773-1764867600-1764874800@bellevilleclub.ca
SUMMARY:Chamber Mingle
DESCRIPTION:
URL:https://bellevilleclub.ca/event/chamber-mingle/
END:VEVENT
END:VCALENDAR