BEGIN:VCALENDAR
VERSION:2.0
PRODID:-//The Belleville Club - ECPv6.15.20//NONSGML v1.0//EN
CALSCALE:GREGORIAN
METHOD:PUBLISH
X-WR-CALNAME:The Belleville Club
X-ORIGINAL-URL:https://bellevilleclub.ca
X-WR-CALDESC:Events for The Belleville Club
REFRESH-INTERVAL;VALUE=DURATION:PT1H
X-Robots-Tag:noindex
X-PUBLISHED-TTL:PT1H
BEGIN:VTIMEZONE
TZID:America/Toronto
BEGIN:DAYLIGHT
TZOFFSETFROM:-0500
TZOFFSETTO:-0400
TZNAME:EDT
DTSTART:20240310T070000
END:DAYLIGHT
BEGIN:STANDARD
TZOFFSETFROM:-0400
TZOFFSETTO:-0500
TZNAME:EST
DTSTART:20241103T060000
END:STANDARD
BEGIN:DAYLIGHT
TZOFFSETFROM:-0500
TZOFFSETTO:-0400
TZNAME:EDT
DTSTART:20250309T070000
END:DAYLIGHT
BEGIN:STANDARD
TZOFFSETFROM:-0400
TZOFFSETTO:-0500
TZNAME:EST
DTSTART:20251102T060000
END:STANDARD
BEGIN:DAYLIGHT
TZOFFSETFROM:-0500
TZOFFSETTO:-0400
TZNAME:EDT
DTSTART:20260308T070000
END:DAYLIGHT
BEGIN:STANDARD
TZOFFSETFROM:-0400
TZOFFSETTO:-0500
TZNAME:EST
DTSTART:20261101T060000
END:STANDARD
END:VTIMEZONE
BEGIN:VEVENT
DTSTART;TZID=America/Toronto:20251219T100000
DTEND;TZID=America/Toronto:20251219T143000
DTSTAMP:20260423T194614
CREATED:20251110T222219Z
LAST-MODIFIED:20251110T222219Z
UID:2732-1766138400-1766154600@bellevilleclub.ca
SUMMARY:McKInney / United Way
DESCRIPTION:
URL:https://bellevilleclub.ca/event/mckinney-united-way/
END:VEVENT
BEGIN:VEVENT
DTSTART;TZID=America/Toronto:20251219T000000
DTEND;TZID=America/Toronto:20251219T235959
DTSTAMP:20260423T194614
CREATED:20250718T202149Z
LAST-MODIFIED:20250718T202149Z
UID:787-1766102400-1766188799@bellevilleclub.ca
SUMMARY:Private Event
DESCRIPTION:
URL:https://bellevilleclub.ca/event/private-event-35/
END:VEVENT
BEGIN:VEVENT
DTSTART;TZID=America/Toronto:20251218T160000
DTEND;TZID=America/Toronto:20251218T233000
DTSTAMP:20260423T194614
CREATED:20251110T222120Z
LAST-MODIFIED:20251110T222120Z
UID:2730-1766073600-1766100600@bellevilleclub.ca
SUMMARY:Private Event
DESCRIPTION:
URL:https://bellevilleclub.ca/event/private-event-46/
END:VEVENT
BEGIN:VEVENT
DTSTART;TZID=America/Toronto:20251217T160000
DTEND;TZID=America/Toronto:20251217T233000
DTSTAMP:20260423T194614
CREATED:20251110T222047Z
LAST-MODIFIED:20251110T222047Z
UID:2728-1765987200-1766014200@bellevilleclub.ca
SUMMARY:Private Event
DESCRIPTION:
URL:https://bellevilleclub.ca/event/private-event-45/
END:VEVENT
BEGIN:VEVENT
DTSTART;TZID=America/Toronto:20251216T170000
DTEND;TZID=America/Toronto:20251216T213000
DTSTAMP:20260423T194614
CREATED:20250718T202122Z
LAST-MODIFIED:20250718T202122Z
UID:785-1765904400-1765920600@bellevilleclub.ca
SUMMARY:Private Meeting Small Dining Room
DESCRIPTION:
URL:https://bellevilleclub.ca/event/private-meeting-small-dining-room-4/
END:VEVENT
BEGIN:VEVENT
DTSTART;TZID=America/Toronto:20251215T110000
DTEND;TZID=America/Toronto:20251215T160000
DTSTAMP:20260423T194614
CREATED:20251110T221948Z
LAST-MODIFIED:20251110T221948Z
UID:2726-1765796400-1765814400@bellevilleclub.ca
SUMMARY:Three Oaks Private Meeting
DESCRIPTION:
URL:https://bellevilleclub.ca/event/three-oaks-private-meeting/
END:VEVENT
BEGIN:VEVENT
DTSTART;TZID=America/Toronto:20251213T170000
DTEND;TZID=America/Toronto:20251213T235900
DTSTAMP:20260423T194614
CREATED:20250127T221257Z
LAST-MODIFIED:20250526T165102Z
UID:265-1765645200-1765670340@bellevilleclub.ca
SUMMARY:PRIVATE PARTY
DESCRIPTION:
URL:https://bellevilleclub.ca/event/private-party-4/
END:VEVENT
BEGIN:VEVENT
DTSTART;TZID=America/Toronto:20251213T000000
DTEND;TZID=America/Toronto:20251213T235959
DTSTAMP:20260423T194614
CREATED:20250718T202020Z
LAST-MODIFIED:20250718T202020Z
UID:783-1765584000-1765670399@bellevilleclub.ca
SUMMARY:Private Event
DESCRIPTION:
URL:https://bellevilleclub.ca/event/private-event-34/
END:VEVENT
BEGIN:VEVENT
DTSTART;TZID=America/Toronto:20251212T170000
DTEND;TZID=America/Toronto:20251212T235900
DTSTAMP:20260423T194614
CREATED:20250127T221233Z
LAST-MODIFIED:20250526T165035Z
UID:263-1765558800-1765583940@bellevilleclub.ca
SUMMARY:PRIVATE PARTY
DESCRIPTION:
URL:https://bellevilleclub.ca/event/private-party-3/
END:VEVENT
BEGIN:VEVENT
DTSTART;TZID=America/Toronto:20251212T000000
DTEND;TZID=America/Toronto:20251212T235959
DTSTAMP:20260423T194614
CREATED:20250718T201956Z
LAST-MODIFIED:20250718T201956Z
UID:781-1765497600-1765583999@bellevilleclub.ca
SUMMARY:Private Event
DESCRIPTION:
URL:https://bellevilleclub.ca/event/private-event-33/
END:VEVENT
BEGIN:VEVENT
DTSTART;TZID=America/Toronto:20251211T080000
DTEND;TZID=America/Toronto:20251211T220000
DTSTAMP:20260423T194614
CREATED:20250818T204532Z
LAST-MODIFIED:20250818T204532Z
UID:1268-1765440000-1765490400@bellevilleclub.ca
SUMMARY:Private Event ALL day
DESCRIPTION:
URL:https://bellevilleclub.ca/event/private-event-all-day/
END:VEVENT
BEGIN:VEVENT
DTSTART;TZID=America/Toronto:20251210T170000
DTEND;TZID=America/Toronto:20251210T230000
DTSTAMP:20260423T194614
CREATED:20251110T221819Z
LAST-MODIFIED:20251110T221819Z
UID:2724-1765386000-1765407600@bellevilleclub.ca
SUMMARY:Chamber Mingle Jingle
DESCRIPTION:
URL:https://bellevilleclub.ca/event/chamber-mingle-jingle/
END:VEVENT
BEGIN:VEVENT
DTSTART;TZID=America/Toronto:20251209T190000
DTEND;TZID=America/Toronto:20251209T223000
DTSTAMP:20260423T194614
CREATED:20250818T204428Z
LAST-MODIFIED:20250818T204428Z
UID:1264-1765306800-1765319400@bellevilleclub.ca
SUMMARY:Open Mic
DESCRIPTION:
URL:https://bellevilleclub.ca/event/open-mic-5/
END:VEVENT
BEGIN:VEVENT
DTSTART;TZID=America/Toronto:20251209T170000
DTEND;TZID=America/Toronto:20251209T190000
DTSTAMP:20260423T194614
CREATED:20250718T201927Z
LAST-MODIFIED:20250718T201927Z
UID:779-1765299600-1765306800@bellevilleclub.ca
SUMMARY:BDIA
DESCRIPTION:
URL:https://bellevilleclub.ca/event/bdia-6/
END:VEVENT
BEGIN:VEVENT
DTSTART;TZID=America/Toronto:20251209T163000
DTEND;TZID=America/Toronto:20251209T190000
DTSTAMP:20260423T194614
CREATED:20250818T204459Z
LAST-MODIFIED:20250818T204459Z
UID:1266-1765297800-1765306800@bellevilleclub.ca
SUMMARY:Members Mingle
DESCRIPTION:
URL:https://bellevilleclub.ca/event/members-mingle/
END:VEVENT
BEGIN:VEVENT
DTSTART;TZID=America/Toronto:20251209T080000
DTEND;TZID=America/Toronto:20251209T170000
DTSTAMP:20260423T194614
CREATED:20251110T221731Z
LAST-MODIFIED:20251110T221731Z
UID:2722-1765267200-1765299600@bellevilleclub.ca
SUMMARY:Corp Member Meeting
DESCRIPTION:
URL:https://bellevilleclub.ca/event/corp-member-meeting/
END:VEVENT
BEGIN:VEVENT
DTSTART;TZID=America/Toronto:20251208T160000
DTEND;TZID=America/Toronto:20251208T210000
DTSTAMP:20260423T194614
CREATED:20250718T201852Z
LAST-MODIFIED:20250718T201852Z
UID:777-1765209600-1765227600@bellevilleclub.ca
SUMMARY:Private Dinner
DESCRIPTION:
URL:https://bellevilleclub.ca/event/private-dinner/
END:VEVENT
BEGIN:VEVENT
DTSTART;TZID=America/Toronto:20251207T120000
DTEND;TZID=America/Toronto:20251207T160000
DTSTAMP:20260423T194614
CREATED:20251110T221634Z
LAST-MODIFIED:20251110T221634Z
UID:2720-1765108800-1765123200@bellevilleclub.ca
SUMMARY:Celebration of LIfe
DESCRIPTION:
URL:https://bellevilleclub.ca/event/celebration-of-life-5/
END:VEVENT
BEGIN:VEVENT
DTSTART;TZID=America/Toronto:20251206T170000
DTEND;TZID=America/Toronto:20251206T233000
DTSTAMP:20260423T194614
CREATED:20250526T164956Z
LAST-MODIFIED:20250526T164956Z
UID:605-1765040400-1765063800@bellevilleclub.ca
SUMMARY:Private
DESCRIPTION:
URL:https://bellevilleclub.ca/event/private-2/
END:VEVENT
BEGIN:VEVENT
DTSTART;TZID=America/Toronto:20251206T000000
DTEND;TZID=America/Toronto:20251206T235959
DTSTAMP:20260423T194614
CREATED:20250718T201818Z
LAST-MODIFIED:20250718T201818Z
UID:775-1764979200-1765065599@bellevilleclub.ca
SUMMARY:Private Event
DESCRIPTION:
URL:https://bellevilleclub.ca/event/private-event-32/
END:VEVENT
BEGIN:VEVENT
DTSTART;TZID=America/Toronto:20251206T000000
DTEND;TZID=America/Toronto:20251206T235959
DTSTAMP:20260423T194614
CREATED:20250127T221202Z
LAST-MODIFIED:20250127T221202Z
UID:261-1764979200-1765065599@bellevilleclub.ca
SUMMARY:PRIVATE PARTY
DESCRIPTION:
URL:https://bellevilleclub.ca/event/private-party-2/
END:VEVENT
BEGIN:VEVENT
DTSTART;TZID=America/Toronto:20251205T163000
DTEND;TZID=America/Toronto:20251205T233000
DTSTAMP:20260423T194614
CREATED:20250818T204357Z
LAST-MODIFIED:20250818T204357Z
UID:1262-1764952200-1764977400@bellevilleclub.ca
SUMMARY:Private Event
DESCRIPTION:
URL:https://bellevilleclub.ca/event/private-event-41/
END:VEVENT
BEGIN:VEVENT
DTSTART;TZID=America/Toronto:20251204T170000
DTEND;TZID=America/Toronto:20251204T190000
DTSTAMP:20260423T194614
CREATED:20250718T201748Z
LAST-MODIFIED:20250718T201748Z
UID:773-1764867600-1764874800@bellevilleclub.ca
SUMMARY:Chamber Mingle
DESCRIPTION:
URL:https://bellevilleclub.ca/event/chamber-mingle/
END:VEVENT
BEGIN:VEVENT
DTSTART;TZID=America/Toronto:20251203T170000
DTEND;TZID=America/Toronto:20251203T233000
DTSTAMP:20260423T194614
CREATED:20250818T204312Z
LAST-MODIFIED:20250818T204312Z
UID:1260-1764781200-1764804600@bellevilleclub.ca
SUMMARY:EDA Private Event
DESCRIPTION:
URL:https://bellevilleclub.ca/event/eda-private-event/
END:VEVENT
BEGIN:VEVENT
DTSTART;TZID=America/Toronto:20251201T170000
DTEND;TZID=America/Toronto:20251201T233000
DTSTAMP:20260423T194614
CREATED:20251110T222431Z
LAST-MODIFIED:20251110T222431Z
UID:2736-1764608400-1764631800@bellevilleclub.ca
SUMMARY:Private Event
DESCRIPTION:
URL:https://bellevilleclub.ca/event/private-event-47/
END:VEVENT
BEGIN:VEVENT
DTSTART;TZID=America/Toronto:20251129T000000
DTEND;TZID=America/Toronto:20251129T235959
DTSTAMP:20260423T194614
CREATED:20250718T201713Z
LAST-MODIFIED:20250718T201713Z
UID:771-1764374400-1764460799@bellevilleclub.ca
SUMMARY:Private Event
DESCRIPTION:
URL:https://bellevilleclub.ca/event/private-event-31/
END:VEVENT
BEGIN:VEVENT
DTSTART;TZID=America/Toronto:20251129T000000
DTEND;TZID=America/Toronto:20251129T235959
DTSTAMP:20260423T194614
CREATED:20250127T221135Z
LAST-MODIFIED:20250127T221135Z
UID:259-1764374400-1764460799@bellevilleclub.ca
SUMMARY:PRIVATE PARTY
DESCRIPTION:
URL:https://bellevilleclub.ca/event/private-party/
END:VEVENT
BEGIN:VEVENT
DTSTART;TZID=America/Toronto:20251128T000000
DTEND;TZID=America/Toronto:20251128T235959
DTSTAMP:20260423T194614
CREATED:20250718T201648Z
LAST-MODIFIED:20250718T201648Z
UID:769-1764288000-1764374399@bellevilleclub.ca
SUMMARY:Private Event
DESCRIPTION:
URL:https://bellevilleclub.ca/event/private-event-30/
END:VEVENT
BEGIN:VEVENT
DTSTART;TZID=America/Toronto:20251128T000000
DTEND;TZID=America/Toronto:20251128T235959
DTSTAMP:20260423T194614
CREATED:20250127T221108Z
LAST-MODIFIED:20250127T221108Z
UID:257-1764288000-1764374399@bellevilleclub.ca
SUMMARY:PRIVATE
DESCRIPTION:
URL:https://bellevilleclub.ca/event/private/
END:VEVENT
BEGIN:VEVENT
DTSTART;TZID=America/Toronto:20251127T170000
DTEND;TZID=America/Toronto:20251127T220000
DTSTAMP:20260423T194614
CREATED:20251023T213103Z
LAST-MODIFIED:20251023T213103Z
UID:2708-1764262800-1764280800@bellevilleclub.ca
SUMMARY:Private Event
DESCRIPTION:
URL:https://bellevilleclub.ca/event/private-event-44/
END:VEVENT
END:VCALENDAR