BEGIN:VCALENDAR
VERSION:2.0
PRODID:-//The Belleville Club - ECPv6.15.20//NONSGML v1.0//EN
CALSCALE:GREGORIAN
METHOD:PUBLISH
X-ORIGINAL-URL:https://bellevilleclub.ca
X-WR-CALDESC:Events for The Belleville Club
REFRESH-INTERVAL;VALUE=DURATION:PT1H
X-Robots-Tag:noindex
X-PUBLISHED-TTL:PT1H
BEGIN:VTIMEZONE
TZID:America/Toronto
BEGIN:DAYLIGHT
TZOFFSETFROM:-0500
TZOFFSETTO:-0400
TZNAME:EDT
DTSTART:20240310T070000
END:DAYLIGHT
BEGIN:STANDARD
TZOFFSETFROM:-0400
TZOFFSETTO:-0500
TZNAME:EST
DTSTART:20241103T060000
END:STANDARD
BEGIN:DAYLIGHT
TZOFFSETFROM:-0500
TZOFFSETTO:-0400
TZNAME:EDT
DTSTART:20250309T070000
END:DAYLIGHT
BEGIN:STANDARD
TZOFFSETFROM:-0400
TZOFFSETTO:-0500
TZNAME:EST
DTSTART:20251102T060000
END:STANDARD
BEGIN:DAYLIGHT
TZOFFSETFROM:-0500
TZOFFSETTO:-0400
TZNAME:EDT
DTSTART:20260308T070000
END:DAYLIGHT
BEGIN:STANDARD
TZOFFSETFROM:-0400
TZOFFSETTO:-0500
TZNAME:EST
DTSTART:20261101T060000
END:STANDARD
BEGIN:DAYLIGHT
TZOFFSETFROM:-0500
TZOFFSETTO:-0400
TZNAME:EDT
DTSTART:20270314T070000
END:DAYLIGHT
BEGIN:STANDARD
TZOFFSETFROM:-0400
TZOFFSETTO:-0500
TZNAME:EST
DTSTART:20271107T060000
END:STANDARD
END:VTIMEZONE
BEGIN:VEVENT
DTSTART;TZID=America/Toronto:20251225T000000
DTEND;TZID=America/Toronto:20251225T235959
DTSTAMP:20260423T193826
CREATED:20250526T165221Z
LAST-MODIFIED:20250526T165221Z
UID:609-1766620800-1766707199@bellevilleclub.ca
SUMMARY:Club Closed
DESCRIPTION:
URL:https://bellevilleclub.ca/event/club-closed/
END:VEVENT
BEGIN:VEVENT
DTSTART;TZID=America/Toronto:20251226T000000
DTEND;TZID=America/Toronto:20251226T235959
DTSTAMP:20260423T193826
CREATED:20250526T165240Z
LAST-MODIFIED:20250526T165240Z
UID:611-1766707200-1766793599@bellevilleclub.ca
SUMMARY:Club Closed
DESCRIPTION:
URL:https://bellevilleclub.ca/event/club-closed-2/
END:VEVENT
BEGIN:VEVENT
DTSTART;TZID=America/Toronto:20251226T080000
DTEND;TZID=America/Toronto:20251226T170000
DTSTAMP:20260423T193826
CREATED:20250818T204700Z
LAST-MODIFIED:20250818T204700Z
UID:1270-1766736000-1766768400@bellevilleclub.ca
SUMMARY:Club Closed
DESCRIPTION:
URL:https://bellevilleclub.ca/event/club-closed-3/
END:VEVENT
BEGIN:VEVENT
DTSTART;TZID=America/Toronto:20251227T080000
DTEND;TZID=America/Toronto:20251227T170000
DTSTAMP:20260423T193826
CREATED:20250818T204728Z
LAST-MODIFIED:20250818T204728Z
UID:1272-1766822400-1766854800@bellevilleclub.ca
SUMMARY:Club Closed
DESCRIPTION:
URL:https://bellevilleclub.ca/event/club-closed-4/
END:VEVENT
BEGIN:VEVENT
DTSTART;TZID=America/Toronto:20251227T080000
DTEND;TZID=America/Toronto:20260104T170000
DTSTAMP:20260423T193826
CREATED:20251110T222338Z
LAST-MODIFIED:20251110T222338Z
UID:2734-1766822400-1767546000@bellevilleclub.ca
SUMMARY:Club Closed
DESCRIPTION:
URL:https://bellevilleclub.ca/event/club-closed-5/
END:VEVENT
BEGIN:VEVENT
DTSTART;TZID=America/Toronto:20260108T170000
DTEND;TZID=America/Toronto:20260108T220000
DTSTAMP:20260423T193826
CREATED:20251023T211756Z
LAST-MODIFIED:20251110T221525Z
UID:2693-1767891600-1767909600@bellevilleclub.ca
SUMMARY:Rotary Paul Harris Fellow Awards
DESCRIPTION:
URL:https://bellevilleclub.ca/event/rotary-paul-harris-fellow-awards/
END:VEVENT
BEGIN:VEVENT
DTSTART;TZID=America/Toronto:20260109T130000
DTEND;TZID=America/Toronto:20260109T233000
DTSTAMP:20260423T193826
CREATED:20251110T222550Z
LAST-MODIFIED:20251110T222550Z
UID:2738-1767963600-1768001400@bellevilleclub.ca
SUMMARY:Private Event
DESCRIPTION:
URL:https://bellevilleclub.ca/event/private-event-48/
END:VEVENT
BEGIN:VEVENT
DTSTART;TZID=America/Toronto:20260110T170000
DTEND;TZID=America/Toronto:20260110T233000
DTSTAMP:20260423T193826
CREATED:20251110T222617Z
LAST-MODIFIED:20251110T222617Z
UID:2740-1768064400-1768087800@bellevilleclub.ca
SUMMARY:Private Event
DESCRIPTION:
URL:https://bellevilleclub.ca/event/private-event-49/
END:VEVENT
BEGIN:VEVENT
DTSTART;TZID=America/Toronto:20260113T190000
DTEND;TZID=America/Toronto:20260113T223000
DTSTAMP:20260423T193826
CREATED:20251110T222651Z
LAST-MODIFIED:20251110T222651Z
UID:2742-1768330800-1768343400@bellevilleclub.ca
SUMMARY:Open Mic
DESCRIPTION:
URL:https://bellevilleclub.ca/event/open-mic-6/
END:VEVENT
BEGIN:VEVENT
DTSTART;TZID=America/Toronto:20260116T150000
DTEND;TZID=America/Toronto:20260116T180000
DTSTAMP:20260423T193826
CREATED:20251110T222729Z
LAST-MODIFIED:20251110T222729Z
UID:2744-1768575600-1768586400@bellevilleclub.ca
SUMMARY:Private Event
DESCRIPTION:
URL:https://bellevilleclub.ca/event/private-event-50/
END:VEVENT
BEGIN:VEVENT
DTSTART;TZID=America/Toronto:20260117T170000
DTEND;TZID=America/Toronto:20260117T233000
DTSTAMP:20260423T193826
CREATED:20251110T222758Z
LAST-MODIFIED:20251110T222758Z
UID:2746-1768669200-1768692600@bellevilleclub.ca
SUMMARY:Private Event
DESCRIPTION:
URL:https://bellevilleclub.ca/event/private-event-51/
END:VEVENT
BEGIN:VEVENT
DTSTART;TZID=America/Toronto:20260131T000000
DTEND;TZID=America/Toronto:20260131T235959
DTSTAMP:20260423T193826
CREATED:20251110T222851Z
LAST-MODIFIED:20251110T222851Z
UID:2748-1769817600-1769903999@bellevilleclub.ca
SUMMARY:Wedding Full Club Closed
DESCRIPTION:
URL:https://bellevilleclub.ca/event/wedding-full-club-closed-2/
END:VEVENT
BEGIN:VEVENT
DTSTART;TZID=America/Toronto:20260208T170000
DTEND;TZID=America/Toronto:20260208T233000
DTSTAMP:20260423T193826
CREATED:20251110T223130Z
LAST-MODIFIED:20251110T223130Z
UID:2754-1770570000-1770593400@bellevilleclub.ca
SUMMARY:SuperBowl Event
DESCRIPTION:
URL:https://bellevilleclub.ca/event/superbowl-event/
END:VEVENT
BEGIN:VEVENT
DTSTART;TZID=America/Toronto:20260213T170000
DTEND;TZID=America/Toronto:20260213T233000
DTSTAMP:20260423T193826
CREATED:20251110T222945Z
LAST-MODIFIED:20251110T222945Z
UID:2750-1771002000-1771025400@bellevilleclub.ca
SUMMARY:BrewMaster Dinner
DESCRIPTION:
URL:https://bellevilleclub.ca/event/brewmaster-dinner/
END:VEVENT
BEGIN:VEVENT
DTSTART;TZID=America/Toronto:20260228T170000
DTEND;TZID=America/Toronto:20260228T210000
DTSTAMP:20260423T193826
CREATED:20251110T223037Z
LAST-MODIFIED:20251110T223037Z
UID:2752-1772298000-1772312400@bellevilleclub.ca
SUMMARY:Private Event
DESCRIPTION:
URL:https://bellevilleclub.ca/event/private-event-52/
END:VEVENT
BEGIN:VEVENT
DTSTART;TZID=America/Toronto:20260310T190000
DTEND;TZID=America/Toronto:20260310T223000
DTSTAMP:20260423T193826
CREATED:20251110T223209Z
LAST-MODIFIED:20251110T223209Z
UID:2756-1773169200-1773181800@bellevilleclub.ca
SUMMARY:Open Mic
DESCRIPTION:
URL:https://bellevilleclub.ca/event/open-mic-7/
END:VEVENT
BEGIN:VEVENT
DTSTART;TZID=America/Toronto:20260325T080000
DTEND;TZID=America/Toronto:20260325T170000
DTSTAMP:20260423T193826
CREATED:20260325T135052Z
LAST-MODIFIED:20260325T135052Z
UID:2830-1774425600-1774458000@bellevilleclub.ca
SUMMARY:Private Event Small Dining Room
DESCRIPTION:
URL:https://bellevilleclub.ca/event/private-event-small-dining-room-3/
END:VEVENT
BEGIN:VEVENT
DTSTART;TZID=America/Toronto:20260405T130000
DTEND;TZID=America/Toronto:20260405T200000
DTSTAMP:20260423T193826
CREATED:20260325T134234Z
LAST-MODIFIED:20260325T134234Z
UID:2804-1775394000-1775419200@bellevilleclub.ca
SUMMARY:Private Event
DESCRIPTION:
URL:https://bellevilleclub.ca/event/private-event-54/
END:VEVENT
BEGIN:VEVENT
DTSTART;TZID=America/Toronto:20260413T170000
DTEND;TZID=America/Toronto:20260413T200000
DTSTAMP:20260423T193826
CREATED:20260325T134107Z
LAST-MODIFIED:20260325T134149Z
UID:2802-1776099600-1776110400@bellevilleclub.ca
SUMMARY:Private Event
DESCRIPTION:
URL:https://bellevilleclub.ca/event/private-event-53/
END:VEVENT
BEGIN:VEVENT
DTSTART;TZID=America/Toronto:20260414T170000
DTEND;TZID=America/Toronto:20260414T193000
DTSTAMP:20260423T193826
CREATED:20260325T134401Z
LAST-MODIFIED:20260325T134401Z
UID:2808-1776186000-1776195000@bellevilleclub.ca
SUMMARY:Private Event Small Dining Room
DESCRIPTION:
URL:https://bellevilleclub.ca/event/private-event-small-dining-room/
END:VEVENT
BEGIN:VEVENT
DTSTART;TZID=America/Toronto:20260414T190000
DTEND;TZID=America/Toronto:20260414T220000
DTSTAMP:20260423T193826
CREATED:20260325T134321Z
LAST-MODIFIED:20260325T134321Z
UID:2806-1776193200-1776204000@bellevilleclub.ca
SUMMARY:Open Mic Open to Public
DESCRIPTION:
URL:https://bellevilleclub.ca/event/open-mic-open-to-public-2/
END:VEVENT
BEGIN:VEVENT
DTSTART;TZID=America/Toronto:20260416T160000
DTEND;TZID=America/Toronto:20260416T220000
DTSTAMP:20260423T193826
CREATED:20260325T134434Z
LAST-MODIFIED:20260325T134434Z
UID:2810-1776355200-1776376800@bellevilleclub.ca
SUMMARY:Private Event
DESCRIPTION:
URL:https://bellevilleclub.ca/event/private-event-55/
END:VEVENT
BEGIN:VEVENT
DTSTART;TZID=America/Toronto:20260418T100000
DTEND;TZID=America/Toronto:20260418T170000
DTSTAMP:20260423T193826
CREATED:20260325T134504Z
LAST-MODIFIED:20260325T134504Z
UID:2812-1776506400-1776531600@bellevilleclub.ca
SUMMARY:Private Event
DESCRIPTION:
URL:https://bellevilleclub.ca/event/private-event-56/
END:VEVENT
BEGIN:VEVENT
DTSTART;TZID=America/Toronto:20260421T170000
DTEND;TZID=America/Toronto:20260421T190000
DTSTAMP:20260423T193826
CREATED:20260325T134550Z
LAST-MODIFIED:20260325T134550Z
UID:2814-1776790800-1776798000@bellevilleclub.ca
SUMMARY:Private Event Small Dining Room
DESCRIPTION:
URL:https://bellevilleclub.ca/event/private-event-small-dining-room-2/
END:VEVENT
BEGIN:VEVENT
DTSTART;TZID=America/Toronto:20260425T170000
DTEND;TZID=America/Toronto:20260425T233000
DTSTAMP:20260423T193826
CREATED:20260325T134631Z
LAST-MODIFIED:20260325T134631Z
UID:2816-1777136400-1777159800@bellevilleclub.ca
SUMMARY:Jazzalicious Public Event
DESCRIPTION:
URL:https://bellevilleclub.ca/event/jazzalicious-public-event/
END:VEVENT
BEGIN:VEVENT
DTSTART;TZID=America/Toronto:20260428T120000
DTEND;TZID=America/Toronto:20260428T170000
DTSTAMP:20260423T193826
CREATED:20260325T134716Z
LAST-MODIFIED:20260325T134716Z
UID:2818-1777377600-1777395600@bellevilleclub.ca
SUMMARY:Private Event
DESCRIPTION:
URL:https://bellevilleclub.ca/event/private-event-57/
END:VEVENT
BEGIN:VEVENT
DTSTART;TZID=America/Toronto:20260429T170000
DTEND;TZID=America/Toronto:20260429T200000
DTSTAMP:20260423T193826
CREATED:20260325T134746Z
LAST-MODIFIED:20260325T134746Z
UID:2820-1777482000-1777492800@bellevilleclub.ca
SUMMARY:Private Event
DESCRIPTION:
URL:https://bellevilleclub.ca/event/private-event-58/
END:VEVENT
BEGIN:VEVENT
DTSTART;TZID=America/Toronto:20260501T170000
DTEND;TZID=America/Toronto:20260501T233000
DTSTAMP:20260423T193826
CREATED:20260325T134814Z
LAST-MODIFIED:20260325T134814Z
UID:2822-1777654800-1777678200@bellevilleclub.ca
SUMMARY:Private Event
DESCRIPTION:
URL:https://bellevilleclub.ca/event/private-event-59/
END:VEVENT
BEGIN:VEVENT
DTSTART;TZID=America/Toronto:20260502T110000
DTEND;TZID=America/Toronto:20260502T160000
DTSTAMP:20260423T193826
CREATED:20260423T173955Z
LAST-MODIFIED:20260423T173955Z
UID:2910-1777719600-1777737600@bellevilleclub.ca
SUMMARY:Private Event
DESCRIPTION:
URL:https://bellevilleclub.ca/event/private-event-82/
END:VEVENT
BEGIN:VEVENT
DTSTART;TZID=America/Toronto:20260502T170000
DTEND;TZID=America/Toronto:20260502T233000
DTSTAMP:20260423T193826
CREATED:20260325T134847Z
LAST-MODIFIED:20260325T134847Z
UID:2824-1777741200-1777764600@bellevilleclub.ca
SUMMARY:Private Event
DESCRIPTION:
URL:https://bellevilleclub.ca/event/private-event-60/
END:VEVENT
END:VCALENDAR