BEGIN:VCALENDAR
VERSION:2.0
PRODID:-//The Belleville Club - ECPv6.15.20//NONSGML v1.0//EN
CALSCALE:GREGORIAN
METHOD:PUBLISH
X-WR-CALNAME:The Belleville Club
X-ORIGINAL-URL:https://bellevilleclub.ca
X-WR-CALDESC:Events for The Belleville Club
REFRESH-INTERVAL;VALUE=DURATION:PT1H
X-Robots-Tag:noindex
X-PUBLISHED-TTL:PT1H
BEGIN:VTIMEZONE
TZID:America/Toronto
BEGIN:DAYLIGHT
TZOFFSETFROM:-0500
TZOFFSETTO:-0400
TZNAME:EDT
DTSTART:20240310T070000
END:DAYLIGHT
BEGIN:STANDARD
TZOFFSETFROM:-0400
TZOFFSETTO:-0500
TZNAME:EST
DTSTART:20241103T060000
END:STANDARD
BEGIN:DAYLIGHT
TZOFFSETFROM:-0500
TZOFFSETTO:-0400
TZNAME:EDT
DTSTART:20250309T070000
END:DAYLIGHT
BEGIN:STANDARD
TZOFFSETFROM:-0400
TZOFFSETTO:-0500
TZNAME:EST
DTSTART:20251102T060000
END:STANDARD
BEGIN:DAYLIGHT
TZOFFSETFROM:-0500
TZOFFSETTO:-0400
TZNAME:EDT
DTSTART:20260308T070000
END:DAYLIGHT
BEGIN:STANDARD
TZOFFSETFROM:-0400
TZOFFSETTO:-0500
TZNAME:EST
DTSTART:20261101T060000
END:STANDARD
END:VTIMEZONE
BEGIN:VEVENT
DTSTART;TZID=America/Toronto:20250226T163000
DTEND;TZID=America/Toronto:20250226T233000
DTSTAMP:20260424T094116
CREATED:20250127T220405Z
LAST-MODIFIED:20250127T220405Z
UID:245-1740587400-1740612600@bellevilleclub.ca
SUMMARY:Private Event
DESCRIPTION:
URL:https://bellevilleclub.ca/event/private-event-12/
END:VEVENT
BEGIN:VEVENT
DTSTART;TZID=America/Toronto:20250224T180000
DTEND;TZID=America/Toronto:20250224T210000
DTSTAMP:20260424T094116
CREATED:20250108T154643Z
LAST-MODIFIED:20250108T154643Z
UID:196-1740420000-1740430800@bellevilleclub.ca
SUMMARY:Private Event
DESCRIPTION:
URL:https://bellevilleclub.ca/event/private-event-10/
END:VEVENT
BEGIN:VEVENT
DTSTART;TZID=America/Toronto:20250222T000000
DTEND;TZID=America/Toronto:20250222T235959
DTSTAMP:20260424T094116
CREATED:20250127T220321Z
LAST-MODIFIED:20250127T220321Z
UID:243-1740182400-1740268799@bellevilleclub.ca
SUMMARY:Private Event
DESCRIPTION:
URL:https://bellevilleclub.ca/event/private-event-11/
END:VEVENT
BEGIN:VEVENT
DTSTART;TZID=America/Toronto:20250221T180000
DTEND;TZID=America/Toronto:20250221T233000
DTSTAMP:20260424T094116
CREATED:20250127T220240Z
LAST-MODIFIED:20250127T220240Z
UID:241-1740160800-1740180600@bellevilleclub.ca
SUMMARY:Rotary Winter Games
DESCRIPTION:Let the Winter Wonderland Indoor Games Begin! Try beating the Pro table tennis\, floor hockey\, music boxing or a smattering of fun games to raise the heat at the club! Adult only event\, Retro Winter Games Outerwear – dress up with a classic twist! See FB Rotary Winter Games 2025 for more information!
URL:https://bellevilleclub.ca/event/rotary-winter-games/
END:VEVENT
BEGIN:VEVENT
DTSTART;TZID=America/Toronto:20250218T000000
DTEND;TZID=America/Toronto:20250218T235959
DTSTAMP:20260424T094116
CREATED:20250127T215730Z
LAST-MODIFIED:20250127T215730Z
UID:239-1739836800-1739923199@bellevilleclub.ca
SUMMARY:Kasama Marketing Private Event
DESCRIPTION:
URL:https://bellevilleclub.ca/event/kasama-marketing-private-event/
END:VEVENT
BEGIN:VEVENT
DTSTART;TZID=America/Toronto:20250214T170000
DTEND;TZID=America/Toronto:20250214T233000
DTSTAMP:20260424T094116
CREATED:20250108T154457Z
LAST-MODIFIED:20250108T154457Z
UID:190-1739552400-1739575800@bellevilleclub.ca
SUMMARY:Valentine Dinner Karlo Estates Winery pairing with homemade pasta demo - open to public call Club for RSVP
DESCRIPTION:
URL:https://bellevilleclub.ca/event/valentine-dinner-karlo-estates-winery-pairing-with-homemade-pasta-demo-open-to-public-call-club-for-rsvp/
END:VEVENT
BEGIN:VEVENT
DTSTART;TZID=America/Toronto:20250211T190000
DTEND;TZID=America/Toronto:20250211T213000
DTSTAMP:20260424T094116
CREATED:20250108T154538Z
LAST-MODIFIED:20250108T154538Z
UID:192-1739300400-1739309400@bellevilleclub.ca
SUMMARY:Open Mic
DESCRIPTION:
URL:https://bellevilleclub.ca/event/open-mic/
END:VEVENT
BEGIN:VEVENT
DTSTART;TZID=America/Toronto:20250210T170000
DTEND;TZID=America/Toronto:20250210T233000
DTSTAMP:20260424T094116
CREATED:20250108T154608Z
LAST-MODIFIED:20250108T154608Z
UID:194-1739206800-1739230200@bellevilleclub.ca
SUMMARY:Private Event
DESCRIPTION:
URL:https://bellevilleclub.ca/event/private-event-9/
END:VEVENT
BEGIN:VEVENT
DTSTART;TZID=America/Toronto:20250208T110000
DTEND;TZID=America/Toronto:20250208T160000
DTSTAMP:20260424T094116
CREATED:20250108T154150Z
LAST-MODIFIED:20250108T154150Z
UID:188-1739012400-1739030400@bellevilleclub.ca
SUMMARY:Private Event
DESCRIPTION:
URL:https://bellevilleclub.ca/event/private-event-8/
END:VEVENT
BEGIN:VEVENT
DTSTART;TZID=America/Toronto:20250207T170000
DTEND;TZID=America/Toronto:20250207T233000
DTSTAMP:20260424T094116
CREATED:20250108T154118Z
LAST-MODIFIED:20250108T154118Z
UID:186-1738947600-1738971000@bellevilleclub.ca
SUMMARY:Private Event
DESCRIPTION:
URL:https://bellevilleclub.ca/event/private-event-7/
END:VEVENT
BEGIN:VEVENT
DTSTART;TZID=America/Toronto:20250201T153000
DTEND;TZID=America/Toronto:20250201T190000
DTSTAMP:20260424T094116
CREATED:20250108T153950Z
LAST-MODIFIED:20250108T153950Z
UID:182-1738423800-1738436400@bellevilleclub.ca
SUMMARY:BluesFest Fundraiser
DESCRIPTION:
URL:https://bellevilleclub.ca/event/bluesfest-fundraiser/
END:VEVENT
BEGIN:VEVENT
DTSTART;TZID=America/Toronto:20250131T190000
DTEND;TZID=America/Toronto:20250131T230000
DTSTAMP:20260424T094116
CREATED:20250108T153909Z
LAST-MODIFIED:20250108T153909Z
UID:180-1738350000-1738364400@bellevilleclub.ca
SUMMARY:Jeremy Fisher
DESCRIPTION:
URL:https://bellevilleclub.ca/event/jeremy-fisher/
END:VEVENT
BEGIN:VEVENT
DTSTART;TZID=America/Toronto:20250129T163000
DTEND;TZID=America/Toronto:20250129T220000
DTSTAMP:20260424T094116
CREATED:20250127T215507Z
LAST-MODIFIED:20250127T215507Z
UID:237-1738168200-1738188000@bellevilleclub.ca
SUMMARY:QHB Private Event
DESCRIPTION:
URL:https://bellevilleclub.ca/event/qhb-private-event/
END:VEVENT
BEGIN:VEVENT
DTSTART;TZID=America/Toronto:20250128T170000
DTEND;TZID=America/Toronto:20250128T230000
DTSTAMP:20260424T094116
CREATED:20250127T215139Z
LAST-MODIFIED:20250127T215139Z
UID:233-1738083600-1738105200@bellevilleclub.ca
SUMMARY:QWB (Main Room) and EDA (BCI Room)
DESCRIPTION:
URL:https://bellevilleclub.ca/event/qwb-main-room-and-eda-bci-room/
END:VEVENT
BEGIN:VEVENT
DTSTART;TZID=America/Toronto:20250127T163000
DTEND;TZID=America/Toronto:20250127T220000
DTSTAMP:20260424T094116
CREATED:20250127T215322Z
LAST-MODIFIED:20250127T215322Z
UID:235-1737995400-1738015200@bellevilleclub.ca
SUMMARY:QHB
DESCRIPTION:
URL:https://bellevilleclub.ca/event/qhb/
END:VEVENT
BEGIN:VEVENT
DTSTART;TZID=America/Toronto:20250125T170000
DTEND;TZID=America/Toronto:20250125T233000
DTSTAMP:20260424T094116
CREATED:20250108T153841Z
LAST-MODIFIED:20250108T153841Z
UID:178-1737824400-1737847800@bellevilleclub.ca
SUMMARY:Private Event
DESCRIPTION:
URL:https://bellevilleclub.ca/event/private-event-5/
END:VEVENT
BEGIN:VEVENT
DTSTART;TZID=America/Toronto:20250121T170000
DTEND;TZID=America/Toronto:20250121T210000
DTSTAMP:20260424T094116
CREATED:20250108T154034Z
LAST-MODIFIED:20250108T154034Z
UID:184-1737478800-1737493200@bellevilleclub.ca
SUMMARY:Private Event
DESCRIPTION:
URL:https://bellevilleclub.ca/event/private-event-6/
END:VEVENT
BEGIN:VEVENT
DTSTART;TZID=America/Toronto:20250117T170000
DTEND;TZID=America/Toronto:20250117T233000
DTSTAMP:20260424T094116
CREATED:20250108T153802Z
LAST-MODIFIED:20250108T153802Z
UID:176-1737133200-1737156600@bellevilleclub.ca
SUMMARY:Private Event
DESCRIPTION:
URL:https://bellevilleclub.ca/event/private-event-4/
END:VEVENT
BEGIN:VEVENT
DTSTART;TZID=America/Toronto:20250117T113000
DTEND;TZID=America/Toronto:20250117T140000
DTSTAMP:20260424T094116
CREATED:20250108T153542Z
LAST-MODIFIED:20250108T153542Z
UID:168-1737113400-1737122400@bellevilleclub.ca
SUMMARY:FEEL GOOD FRIDAY LUNCH call Club to RSVP - Mexican -
DESCRIPTION:
URL:https://bellevilleclub.ca/event/feel-good-friday-lunch-call-club-to-rsvp-mexican/
END:VEVENT
BEGIN:VEVENT
DTSTART;TZID=America/Toronto:20250116T080000
DTEND;TZID=America/Toronto:20250116T170000
DTSTAMP:20260424T094116
CREATED:20250108T153720Z
LAST-MODIFIED:20250108T153720Z
UID:174-1737014400-1737046800@bellevilleclub.ca
SUMMARY:Private Event
DESCRIPTION:
URL:https://bellevilleclub.ca/event/private-event-3/
END:VEVENT
BEGIN:VEVENT
DTSTART;TZID=America/Toronto:20250114T190000
DTEND;TZID=America/Toronto:20250114T213000
DTSTAMP:20260424T094116
CREATED:20250108T153416Z
LAST-MODIFIED:20250108T153416Z
UID:166-1736881200-1736890200@bellevilleclub.ca
SUMMARY:Open Mic 7-9pm
DESCRIPTION:
URL:https://bellevilleclub.ca/event/open-mic-7-9pm/
END:VEVENT
BEGIN:VEVENT
DTSTART;TZID=America/Toronto:20250112T000000
DTEND;TZID=America/Toronto:20250112T235959
DTSTAMP:20260424T094116
CREATED:20250108T153636Z
LAST-MODIFIED:20250108T153636Z
UID:172-1736640000-1736726399@bellevilleclub.ca
SUMMARY:Private Event
DESCRIPTION:
URL:https://bellevilleclub.ca/event/private-event-2/
END:VEVENT
BEGIN:VEVENT
DTSTART;TZID=America/Toronto:20250111T000000
DTEND;TZID=America/Toronto:20250111T235959
DTSTAMP:20260424T094116
CREATED:20250108T153617Z
LAST-MODIFIED:20250108T153617Z
UID:170-1736553600-1736639999@bellevilleclub.ca
SUMMARY:Private Event
DESCRIPTION:
URL:https://bellevilleclub.ca/event/private-event/
END:VEVENT
BEGIN:VEVENT
DTSTART;TZID=America/Toronto:20250108T080000
DTEND;TZID=America/Toronto:20250108T170000
DTSTAMP:20260424T094116
CREATED:20250108T151257Z
LAST-MODIFIED:20250108T151257Z
UID:164-1736323200-1736355600@bellevilleclub.ca
SUMMARY:Test 2
DESCRIPTION:
URL:https://bellevilleclub.ca/event/test-2/
END:VEVENT
BEGIN:VEVENT
DTSTART;TZID=America/Toronto:20250108T000000
DTEND;TZID=America/Toronto:20250108T235959
DTSTAMP:20260424T094116
CREATED:20250108T155030Z
LAST-MODIFIED:20250108T155030Z
UID:200-1736294400-1736380799@bellevilleclub.ca
SUMMARY:OUR EMAILS ARE DOWN CALL CLUB 613-962-1239
DESCRIPTION:
URL:https://bellevilleclub.ca/event/our-emails-are-down-call-club-613-962-1239/
END:VEVENT
BEGIN:VEVENT
DTSTART;TZID=America/Toronto:20250101T000000
DTEND;TZID=America/Toronto:20250101T235959
DTSTAMP:20260424T094116
CREATED:20250101T193603Z
LAST-MODIFIED:20250101T193603Z
UID:147-1735689600-1735775999@bellevilleclub.ca
SUMMARY:Test
DESCRIPTION:This is a test
URL:https://bellevilleclub.ca/event/test/
LOCATION:The Belleville Club\, 210 Pinnacle Street\, Belleville\, Ontario\, k8n3a6\, Canada
ORGANIZER;CN="The Belleville Club":MAILTO:info@bellevilleclub.ca
END:VEVENT
END:VCALENDAR