BEGIN:VCALENDAR
VERSION:2.0
PRODID:-//The Belleville Club - ECPv6.15.20//NONSGML v1.0//EN
CALSCALE:GREGORIAN
METHOD:PUBLISH
X-WR-CALNAME:The Belleville Club
X-ORIGINAL-URL:https://bellevilleclub.ca
X-WR-CALDESC:Events for The Belleville Club
REFRESH-INTERVAL;VALUE=DURATION:PT1H
X-Robots-Tag:noindex
X-PUBLISHED-TTL:PT1H
BEGIN:VTIMEZONE
TZID:America/Toronto
BEGIN:DAYLIGHT
TZOFFSETFROM:-0500
TZOFFSETTO:-0400
TZNAME:EDT
DTSTART:20240310T070000
END:DAYLIGHT
BEGIN:STANDARD
TZOFFSETFROM:-0400
TZOFFSETTO:-0500
TZNAME:EST
DTSTART:20241103T060000
END:STANDARD
BEGIN:DAYLIGHT
TZOFFSETFROM:-0500
TZOFFSETTO:-0400
TZNAME:EDT
DTSTART:20250309T070000
END:DAYLIGHT
BEGIN:STANDARD
TZOFFSETFROM:-0400
TZOFFSETTO:-0500
TZNAME:EST
DTSTART:20251102T060000
END:STANDARD
BEGIN:DAYLIGHT
TZOFFSETFROM:-0500
TZOFFSETTO:-0400
TZNAME:EDT
DTSTART:20260308T070000
END:DAYLIGHT
BEGIN:STANDARD
TZOFFSETFROM:-0400
TZOFFSETTO:-0500
TZNAME:EST
DTSTART:20261101T060000
END:STANDARD
END:VTIMEZONE
BEGIN:VEVENT
DTSTART;TZID=America/Toronto:20250712T170000
DTEND;TZID=America/Toronto:20250712T233000
DTSTAMP:20260424T025542
CREATED:20250526T162933Z
LAST-MODIFIED:20250526T162933Z
UID:562-1752339600-1752363000@bellevilleclub.ca
SUMMARY:Private Event
DESCRIPTION:
URL:https://bellevilleclub.ca/event/private-event-22/
END:VEVENT
BEGIN:VEVENT
DTSTART;TZID=America/Toronto:20250708T190000
DTEND;TZID=America/Toronto:20250708T220000
DTSTAMP:20260424T025542
CREATED:20250526T163125Z
LAST-MODIFIED:20250526T163125Z
UID:568-1752001200-1752012000@bellevilleclub.ca
SUMMARY:Open Mic all welcome
DESCRIPTION:
URL:https://bellevilleclub.ca/event/open-mic-all-welcome-3/
END:VEVENT
BEGIN:VEVENT
DTSTART;TZID=America/Toronto:20250628T160000
DTEND;TZID=America/Toronto:20250628T220000
DTSTAMP:20260424T025542
CREATED:20250526T162846Z
LAST-MODIFIED:20250526T162846Z
UID:560-1751126400-1751148000@bellevilleclub.ca
SUMMARY:Private Event
DESCRIPTION:
URL:https://bellevilleclub.ca/event/private-event-21/
END:VEVENT
BEGIN:VEVENT
DTSTART;TZID=America/Toronto:20250627T170000
DTEND;TZID=America/Toronto:20250627T220000
DTSTAMP:20260424T025542
CREATED:20250526T162804Z
LAST-MODIFIED:20250526T162804Z
UID:558-1751043600-1751061600@bellevilleclub.ca
SUMMARY:Private Event
DESCRIPTION:
URL:https://bellevilleclub.ca/event/private-event-20/
END:VEVENT
BEGIN:VEVENT
DTSTART;TZID=America/Toronto:20250626T170000
DTEND;TZID=America/Toronto:20250626T210000
DTSTAMP:20260424T025542
CREATED:20250526T162708Z
LAST-MODIFIED:20250526T162708Z
UID:556-1750957200-1750971600@bellevilleclub.ca
SUMMARY:Quinte Arts Council AGM
DESCRIPTION:
URL:https://bellevilleclub.ca/event/quinte-arts-council-agm/
END:VEVENT
BEGIN:VEVENT
DTSTART;TZID=America/Toronto:20250624T120000
DTEND;TZID=America/Toronto:20250624T150000
DTSTAMP:20260424T025542
CREATED:20250526T162548Z
LAST-MODIFIED:20250526T162548Z
UID:554-1750766400-1750777200@bellevilleclub.ca
SUMMARY:Celebration of LIfe
DESCRIPTION:
URL:https://bellevilleclub.ca/event/celebration-of-life-2/
END:VEVENT
BEGIN:VEVENT
DTSTART;TZID=America/Toronto:20250622T160000
DTEND;TZID=America/Toronto:20250622T190000
DTSTAMP:20260424T025542
CREATED:20250526T161936Z
LAST-MODIFIED:20250526T161936Z
UID:544-1750608000-1750618800@bellevilleclub.ca
SUMMARY:Belleville Art Association Art at the Club
DESCRIPTION:
URL:https://bellevilleclub.ca/event/belleville-art-association-art-at-the-club/
END:VEVENT
BEGIN:VEVENT
DTSTART;TZID=America/Toronto:20250621T160000
DTEND;TZID=America/Toronto:20250621T190000
DTSTAMP:20260424T025542
CREATED:20250526T161846Z
LAST-MODIFIED:20250526T161846Z
UID:541-1750521600-1750532400@bellevilleclub.ca
SUMMARY:Art at The Club Belleville Art Association Showcase
DESCRIPTION:
URL:https://bellevilleclub.ca/event/art-at-the-club-belleville-art-association-showcase/
END:VEVENT
BEGIN:VEVENT
DTSTART;TZID=America/Toronto:20250620T120000
DTEND;TZID=America/Toronto:20250620T160000
DTSTAMP:20260424T025542
CREATED:20250526T162415Z
LAST-MODIFIED:20250526T162415Z
UID:552-1750420800-1750435200@bellevilleclub.ca
SUMMARY:Celebration of Life
DESCRIPTION:
URL:https://bellevilleclub.ca/event/celebration-of-life/
END:VEVENT
BEGIN:VEVENT
DTSTART;TZID=America/Toronto:20250618T170000
DTEND;TZID=America/Toronto:20250618T203000
DTSTAMP:20260424T025542
CREATED:20250526T162312Z
LAST-MODIFIED:20250526T162312Z
UID:550-1750266000-1750278600@bellevilleclub.ca
SUMMARY:Kiwanis Awards
DESCRIPTION:
URL:https://bellevilleclub.ca/event/kiwanis-awards/
END:VEVENT
BEGIN:VEVENT
DTSTART;TZID=America/Toronto:20250617T170000
DTEND;TZID=America/Toronto:20250617T200000
DTSTAMP:20260424T025542
CREATED:20250526T162219Z
LAST-MODIFIED:20250526T162219Z
UID:548-1750179600-1750190400@bellevilleclub.ca
SUMMARY:Rotary Private Meeting
DESCRIPTION:
URL:https://bellevilleclub.ca/event/rotary-private-meeting/
END:VEVENT
BEGIN:VEVENT
DTSTART;TZID=America/Toronto:20250614T170000
DTEND;TZID=America/Toronto:20250614T233000
DTSTAMP:20260424T025542
CREATED:20250526T162132Z
LAST-MODIFIED:20250526T162132Z
UID:546-1749920400-1749943800@bellevilleclub.ca
SUMMARY:Private Event
DESCRIPTION:
URL:https://bellevilleclub.ca/event/private-event-19/
END:VEVENT
BEGIN:VEVENT
DTSTART;TZID=America/Toronto:20250613T170000
DTEND;TZID=America/Toronto:20250614T000000
DTSTAMP:20260424T025542
CREATED:20250526T161104Z
LAST-MODIFIED:20250526T161104Z
UID:539-1749834000-1749859200@bellevilleclub.ca
SUMMARY:Private Event
DESCRIPTION:
URL:https://bellevilleclub.ca/event/private-event-18/
END:VEVENT
BEGIN:VEVENT
DTSTART;TZID=America/Toronto:20250613T120000
DTEND;TZID=America/Toronto:20250613T150000
DTSTAMP:20260424T025542
CREATED:20250526T161022Z
LAST-MODIFIED:20250526T163640Z
UID:537-1749816000-1749826800@bellevilleclub.ca
SUMMARY:Feel Good Friday Lunch ode to ol Boys and Girls of BCI https://square.link/u/tbhaeRah
DESCRIPTION:
URL:https://bellevilleclub.ca/event/feel-good-friday-lunch-ode-to-ol-boys-and-girls-of-bci/
END:VEVENT
BEGIN:VEVENT
DTSTART;TZID=America/Toronto:20250610T190000
DTEND;TZID=America/Toronto:20250610T220000
DTSTAMP:20260424T025542
CREATED:20250526T160657Z
LAST-MODIFIED:20250526T160657Z
UID:535-1749582000-1749592800@bellevilleclub.ca
SUMMARY:OPEN MIC
DESCRIPTION:
URL:https://bellevilleclub.ca/event/open-mic-3/
END:VEVENT
BEGIN:VEVENT
DTSTART;TZID=America/Toronto:20250609T170000
DTEND;TZID=America/Toronto:20250609T200000
DTSTAMP:20260424T025542
CREATED:20250526T160522Z
LAST-MODIFIED:20250526T160522Z
UID:533-1749488400-1749499200@bellevilleclub.ca
SUMMARY:BDIA
DESCRIPTION:
URL:https://bellevilleclub.ca/event/bdia/
END:VEVENT
BEGIN:VEVENT
DTSTART;TZID=America/Toronto:20250607T180000
DTEND;TZID=America/Toronto:20250607T233000
DTSTAMP:20260424T025542
CREATED:20250526T160411Z
LAST-MODIFIED:20250526T160411Z
UID:531-1749319200-1749339000@bellevilleclub.ca
SUMMARY:Private Event Navy League 50th Anniversary
DESCRIPTION:
URL:https://bellevilleclub.ca/event/private-event-navy-league-50th-anniversary/
END:VEVENT
BEGIN:VEVENT
DTSTART;TZID=America/Toronto:20250605T080000
DTEND;TZID=America/Toronto:20250605T170000
DTSTAMP:20260424T025542
CREATED:20250526T160014Z
LAST-MODIFIED:20250526T160014Z
UID:529-1749110400-1749142800@bellevilleclub.ca
SUMMARY:Private Event Royal LePage
DESCRIPTION:
URL:https://bellevilleclub.ca/event/private-event-royal-lepage-2/
END:VEVENT
BEGIN:VEVENT
DTSTART;TZID=America/Toronto:20250604T190000
DTEND;TZID=America/Toronto:20250604T220000
DTSTAMP:20260424T025542
CREATED:20250526T155941Z
LAST-MODIFIED:20250526T155941Z
UID:527-1749063600-1749074400@bellevilleclub.ca
SUMMARY:Private Event Royal LePage
DESCRIPTION:
URL:https://bellevilleclub.ca/event/private-event-royal-lepage/
END:VEVENT
BEGIN:VEVENT
DTSTART;TZID=America/Toronto:20250603T170000
DTEND;TZID=America/Toronto:20250603T210000
DTSTAMP:20260424T025542
CREATED:20250526T155857Z
LAST-MODIFIED:20250526T155857Z
UID:525-1748970000-1748984400@bellevilleclub.ca
SUMMARY:Private Event
DESCRIPTION:
URL:https://bellevilleclub.ca/event/private-event-17/
END:VEVENT
BEGIN:VEVENT
DTSTART;TZID=America/Toronto:20250530T170000
DTEND;TZID=America/Toronto:20250530T200000
DTSTAMP:20260424T025542
CREATED:20250526T155559Z
LAST-MODIFIED:20250526T155559Z
UID:522-1748624400-1748635200@bellevilleclub.ca
SUMMARY:Private Event Montessori Art Show
DESCRIPTION:
URL:https://bellevilleclub.ca/event/private-event-montessori-art-show/
END:VEVENT
BEGIN:VEVENT
DTSTART;TZID=America/Toronto:20250529T170000
DTEND;TZID=America/Toronto:20250529T190000
DTSTAMP:20260424T025542
CREATED:20250526T155408Z
LAST-MODIFIED:20250526T155408Z
UID:520-1748538000-1748545200@bellevilleclub.ca
SUMMARY:Downtown Blues 3rd Annual Festival Launch 5-7pm Featuring Kenny Pauze and Tony Vani
DESCRIPTION:
URL:https://bellevilleclub.ca/event/downtown-blues-3rd-annual-festival-launch-5-7pm-featuring-kenny-pauze-and-tony-vani/
END:VEVENT
BEGIN:VEVENT
DTSTART;TZID=America/Toronto:20250527T180000
DTEND;TZID=America/Toronto:20250527T223000
DTSTAMP:20260424T025542
CREATED:20250327T212021Z
LAST-MODIFIED:20250327T212021Z
UID:421-1748368800-1748385000@bellevilleclub.ca
SUMMARY:QWB
DESCRIPTION:
URL:https://bellevilleclub.ca/event/qwb-2/
END:VEVENT
BEGIN:VEVENT
DTSTART;TZID=America/Toronto:20250526T180000
DTEND;TZID=America/Toronto:20250526T210000
DTSTAMP:20260424T025542
CREATED:20250327T211954Z
LAST-MODIFIED:20250327T211954Z
UID:419-1748282400-1748293200@bellevilleclub.ca
SUMMARY:100 Men
DESCRIPTION:
URL:https://bellevilleclub.ca/event/100-men/
END:VEVENT
BEGIN:VEVENT
DTSTART;TZID=America/Toronto:20250524T170000
DTEND;TZID=America/Toronto:20250524T233000
DTSTAMP:20260424T025542
CREATED:20250327T211920Z
LAST-MODIFIED:20250327T211920Z
UID:417-1748106000-1748129400@bellevilleclub.ca
SUMMARY:Private Event
DESCRIPTION:
URL:https://bellevilleclub.ca/event/private-event-16/
END:VEVENT
BEGIN:VEVENT
DTSTART;TZID=America/Toronto:20250513T190000
DTEND;TZID=America/Toronto:20250513T223000
DTSTAMP:20260424T025542
CREATED:20250327T211837Z
LAST-MODIFIED:20250327T211837Z
UID:415-1747162800-1747175400@bellevilleclub.ca
SUMMARY:Open Mic All Welcome
DESCRIPTION:
URL:https://bellevilleclub.ca/event/open-mic-all-welcome-2/
END:VEVENT
BEGIN:VEVENT
DTSTART;TZID=America/Toronto:20250512T170000
DTEND;TZID=America/Toronto:20250512T220000
DTSTAMP:20260424T025542
CREATED:20250327T211756Z
LAST-MODIFIED:20250327T211756Z
UID:413-1747069200-1747087200@bellevilleclub.ca
SUMMARY:BIA
DESCRIPTION:
URL:https://bellevilleclub.ca/event/bia/
END:VEVENT
BEGIN:VEVENT
DTSTART;TZID=America/Toronto:20250510T170000
DTEND;TZID=America/Toronto:20250510T233000
DTSTAMP:20260424T025542
CREATED:20250327T211723Z
LAST-MODIFIED:20250327T211723Z
UID:411-1746896400-1746919800@bellevilleclub.ca
SUMMARY:Private Event
DESCRIPTION:
URL:https://bellevilleclub.ca/event/private-event-15/
END:VEVENT
BEGIN:VEVENT
DTSTART;TZID=America/Toronto:20250502T160000
DTEND;TZID=America/Toronto:20250502T210000
DTSTAMP:20260424T025542
CREATED:20250327T213229Z
LAST-MODIFIED:20250327T213229Z
UID:423-1746201600-1746219600@bellevilleclub.ca
SUMMARY:Members Only Mingle
DESCRIPTION:
URL:https://bellevilleclub.ca/event/members-only-mingle/
END:VEVENT
BEGIN:VEVENT
DTSTART;TZID=America/Toronto:20250501T183000
DTEND;TZID=America/Toronto:20250501T223000
DTSTAMP:20260424T025542
CREATED:20250327T211434Z
LAST-MODIFIED:20250412T143542Z
UID:409-1746124200-1746138600@bellevilleclub.ca
SUMMARY:BELLEVILLE CONNECTS
DESCRIPTION:We are excited to announce a special event on May 1st that focuses on our business and organizational community. Belleville Connects presents a unique opportunity for business leaders and organizations to network\, learn\, and grow together.\nAs artificial intelligence (AI) increasingly influences our daily lives\, it is essential to explore how we and our organizations are adapting to these changes. To facilitate this discussion\, we have curated a distinguished panel of leaders and executives for a fireside chat on the topic: “How is artificial intelligence creating both disruptions and opportunities for our businesses and organizations?”\nOur panelists will share their insights and experiences with AI across various sectors\, including technology\, financial services\, non-profit\, energy\, and academia. This diverse range of perspectives will provide valuable insights into how AI is reshaping our industries.\nJoin us for this engaging conversation and take part in shaping the future of your business. Reserve your seat today!
URL:https://bellevilleclub.ca/event/belleville-connects/
END:VEVENT
END:VCALENDAR