BEGIN:VCALENDAR
VERSION:2.0
PRODID:-//The Belleville Club - ECPv6.15.20//NONSGML v1.0//EN
CALSCALE:GREGORIAN
METHOD:PUBLISH
X-ORIGINAL-URL:https://bellevilleclub.ca
X-WR-CALDESC:Events for The Belleville Club
REFRESH-INTERVAL;VALUE=DURATION:PT1H
X-Robots-Tag:noindex
X-PUBLISHED-TTL:PT1H
BEGIN:VTIMEZONE
TZID:America/Toronto
BEGIN:DAYLIGHT
TZOFFSETFROM:-0500
TZOFFSETTO:-0400
TZNAME:EDT
DTSTART:20240310T070000
END:DAYLIGHT
BEGIN:STANDARD
TZOFFSETFROM:-0400
TZOFFSETTO:-0500
TZNAME:EST
DTSTART:20241103T060000
END:STANDARD
BEGIN:DAYLIGHT
TZOFFSETFROM:-0500
TZOFFSETTO:-0400
TZNAME:EDT
DTSTART:20250309T070000
END:DAYLIGHT
BEGIN:STANDARD
TZOFFSETFROM:-0400
TZOFFSETTO:-0500
TZNAME:EST
DTSTART:20251102T060000
END:STANDARD
BEGIN:DAYLIGHT
TZOFFSETFROM:-0500
TZOFFSETTO:-0400
TZNAME:EDT
DTSTART:20260308T070000
END:DAYLIGHT
BEGIN:STANDARD
TZOFFSETFROM:-0400
TZOFFSETTO:-0500
TZNAME:EST
DTSTART:20261101T060000
END:STANDARD
END:VTIMEZONE
BEGIN:VEVENT
DTSTART;TZID=America/Toronto:20250405T160000
DTEND;TZID=America/Toronto:20250405T233000
DTSTAMP:20260424T035420
CREATED:20250327T205618Z
LAST-MODIFIED:20250327T205618Z
UID:388-1743868800-1743895800@bellevilleclub.ca
SUMMARY:Private Party
DESCRIPTION:
URL:https://bellevilleclub.ca/event/private-party-5/
END:VEVENT
BEGIN:VEVENT
DTSTART;TZID=America/Toronto:20250408T190000
DTEND;TZID=America/Toronto:20250408T220000
DTSTAMP:20260424T035420
CREATED:20250327T205710Z
LAST-MODIFIED:20250327T205710Z
UID:390-1744138800-1744149600@bellevilleclub.ca
SUMMARY:Open Mic All Welcome
DESCRIPTION:
URL:https://bellevilleclub.ca/event/open-mic-all-welcome/
END:VEVENT
BEGIN:VEVENT
DTSTART;TZID=America/Toronto:20250410T180000
DTEND;TZID=America/Toronto:20250410T220000
DTSTAMP:20260424T035420
CREATED:20250327T205758Z
LAST-MODIFIED:20250327T205758Z
UID:392-1744308000-1744322400@bellevilleclub.ca
SUMMARY:Ideal Bike Seminar
DESCRIPTION:
URL:https://bellevilleclub.ca/event/ideal-bike-seminar/
END:VEVENT
BEGIN:VEVENT
DTSTART;TZID=America/Toronto:20250411T113000
DTEND;TZID=America/Toronto:20250411T140000
DTSTAMP:20260424T035420
CREATED:20250327T210140Z
LAST-MODIFIED:20250327T210140Z
UID:394-1744371000-1744380000@bellevilleclub.ca
SUMMARY:Feel Good Friday Lunch Open to Public RSVP Req https://square.link/u/d6CObqxQ
DESCRIPTION:Indian Food Cucumber and Tomato Salad Butter chicken Naan Bread Basmati Rice Raita Curry Veggies Samosas Desserts \nhttps://square.link/u/d6CObqxQ \n 
URL:https://bellevilleclub.ca/event/feel-good-friday-lunch-open-to-public-rsvp-req-https-square-link-u-d6cobqxq/
END:VEVENT
BEGIN:VEVENT
DTSTART;TZID=America/Toronto:20250414T163000
DTEND;TZID=America/Toronto:20250414T223000
DTSTAMP:20260424T035420
CREATED:20250127T220828Z
LAST-MODIFIED:20250127T220828Z
UID:251-1744648200-1744669800@bellevilleclub.ca
SUMMARY:BIA Private
DESCRIPTION:
URL:https://bellevilleclub.ca/event/bia-private/
END:VEVENT
BEGIN:VEVENT
DTSTART;TZID=America/Toronto:20250415T183000
DTEND;TZID=America/Toronto:20250415T230000
DTSTAMP:20260424T035420
CREATED:20250127T220903Z
LAST-MODIFIED:20250127T220903Z
UID:253-1744741800-1744758000@bellevilleclub.ca
SUMMARY:OPEN MIC OPEN TO PUBLIC
DESCRIPTION:
URL:https://bellevilleclub.ca/event/open-mic-open-to-public/
END:VEVENT
BEGIN:VEVENT
DTSTART;TZID=America/Toronto:20250419T130000
DTEND;TZID=America/Toronto:20250419T193000
DTSTAMP:20260424T035420
CREATED:20250327T210703Z
LAST-MODIFIED:20250327T210703Z
UID:397-1745067600-1745091000@bellevilleclub.ca
SUMMARY:Private Event
DESCRIPTION:
URL:https://bellevilleclub.ca/event/private-event-13/
END:VEVENT
BEGIN:VEVENT
DTSTART;TZID=America/Toronto:20250424T180000
DTEND;TZID=America/Toronto:20250424T220000
DTSTAMP:20260424T035420
CREATED:20250327T210943Z
LAST-MODIFIED:20250327T210943Z
UID:401-1745517600-1745532000@bellevilleclub.ca
SUMMARY:Marlin Travel Event
DESCRIPTION:
URL:https://bellevilleclub.ca/event/marlin-travel-event-2/
END:VEVENT
BEGIN:VEVENT
DTSTART;TZID=America/Toronto:20250425T170000
DTEND;TZID=America/Toronto:20250425T233000
DTSTAMP:20260424T035420
CREATED:20250327T211024Z
LAST-MODIFIED:20250327T211024Z
UID:403-1745600400-1745623800@bellevilleclub.ca
SUMMARY:Private Event
DESCRIPTION:
URL:https://bellevilleclub.ca/event/private-event-14/
END:VEVENT
BEGIN:VEVENT
DTSTART;TZID=America/Toronto:20250426T193000
DTEND;TZID=America/Toronto:20250427T000000
DTSTAMP:20260424T035420
CREATED:20250327T211131Z
LAST-MODIFIED:20250327T211131Z
UID:405-1745695800-1745712000@bellevilleclub.ca
SUMMARY:JAZZALICIOUS OPEN FREE TICKETED EVENT
DESCRIPTION:EVENTBRITE FOR FREE TICKET IS REQUIRED FOR ENTRY
URL:https://bellevilleclub.ca/event/jazzalicious-open-free-ticketed-event/
END:VEVENT
BEGIN:VEVENT
DTSTART;TZID=America/Toronto:20250429T180000
DTEND;TZID=America/Toronto:20250429T230000
DTSTAMP:20260424T035420
CREATED:20250327T211204Z
LAST-MODIFIED:20250327T211204Z
UID:407-1745949600-1745967600@bellevilleclub.ca
SUMMARY:QWB
DESCRIPTION:
URL:https://bellevilleclub.ca/event/qwb/
END:VEVENT
END:VCALENDAR