BEGIN:VCALENDAR
VERSION:2.0
PRODID:-//The Belleville Club - ECPv6.15.20//NONSGML v1.0//EN
CALSCALE:GREGORIAN
METHOD:PUBLISH
X-ORIGINAL-URL:https://bellevilleclub.ca
X-WR-CALDESC:Events for The Belleville Club
REFRESH-INTERVAL;VALUE=DURATION:PT1H
X-Robots-Tag:noindex
X-PUBLISHED-TTL:PT1H
BEGIN:VTIMEZONE
TZID:America/Toronto
BEGIN:DAYLIGHT
TZOFFSETFROM:-0500
TZOFFSETTO:-0400
TZNAME:EDT
DTSTART:20240310T070000
END:DAYLIGHT
BEGIN:STANDARD
TZOFFSETFROM:-0400
TZOFFSETTO:-0500
TZNAME:EST
DTSTART:20241103T060000
END:STANDARD
BEGIN:DAYLIGHT
TZOFFSETFROM:-0500
TZOFFSETTO:-0400
TZNAME:EDT
DTSTART:20250309T070000
END:DAYLIGHT
BEGIN:STANDARD
TZOFFSETFROM:-0400
TZOFFSETTO:-0500
TZNAME:EST
DTSTART:20251102T060000
END:STANDARD
BEGIN:DAYLIGHT
TZOFFSETFROM:-0500
TZOFFSETTO:-0400
TZNAME:EDT
DTSTART:20260308T070000
END:DAYLIGHT
BEGIN:STANDARD
TZOFFSETFROM:-0400
TZOFFSETTO:-0500
TZNAME:EST
DTSTART:20261101T060000
END:STANDARD
END:VTIMEZONE
BEGIN:VEVENT
DTSTART;TZID=America/Toronto:20250708T190000
DTEND;TZID=America/Toronto:20250708T220000
DTSTAMP:20260423T221718
CREATED:20250526T163125Z
LAST-MODIFIED:20250526T163125Z
UID:568-1752001200-1752012000@bellevilleclub.ca
SUMMARY:Open Mic all welcome
DESCRIPTION:
URL:https://bellevilleclub.ca/event/open-mic-all-welcome-3/
END:VEVENT
BEGIN:VEVENT
DTSTART;TZID=America/Toronto:20250712T170000
DTEND;TZID=America/Toronto:20250712T233000
DTSTAMP:20260423T221718
CREATED:20250526T162933Z
LAST-MODIFIED:20250526T162933Z
UID:562-1752339600-1752363000@bellevilleclub.ca
SUMMARY:Private Event
DESCRIPTION:
URL:https://bellevilleclub.ca/event/private-event-22/
END:VEVENT
BEGIN:VEVENT
DTSTART;TZID=America/Toronto:20250714T170000
DTEND;TZID=America/Toronto:20250714T190000
DTSTAMP:20260423T221718
CREATED:20250526T163007Z
LAST-MODIFIED:20250526T163007Z
UID:564-1752512400-1752519600@bellevilleclub.ca
SUMMARY:BDIA
DESCRIPTION:
URL:https://bellevilleclub.ca/event/bdia-2/
END:VEVENT
BEGIN:VEVENT
DTSTART;TZID=America/Toronto:20250715T170000
DTEND;TZID=America/Toronto:20250715T190000
DTSTAMP:20260423T221718
CREATED:20250526T163035Z
LAST-MODIFIED:20250526T163035Z
UID:566-1752598800-1752606000@bellevilleclub.ca
SUMMARY:Rotary Private Meeting
DESCRIPTION:
URL:https://bellevilleclub.ca/event/rotary-private-meeting-2/
END:VEVENT
BEGIN:VEVENT
DTSTART;TZID=America/Toronto:20250718T120000
DTEND;TZID=America/Toronto:20250718T140000
DTSTAMP:20260423T221718
CREATED:20250526T163322Z
LAST-MODIFIED:20250526T163322Z
UID:570-1752840000-1752847200@bellevilleclub.ca
SUMMARY:Feel Good Friday Lunch
DESCRIPTION:
URL:https://bellevilleclub.ca/event/feel-good-friday-lunch/
END:VEVENT
BEGIN:VEVENT
DTSTART;TZID=America/Toronto:20250719T170000
DTEND;TZID=America/Toronto:20250719T190000
DTSTAMP:20260423T221718
CREATED:20250718T185659Z
LAST-MODIFIED:20250718T185659Z
UID:723-1752944400-1752951600@bellevilleclub.ca
SUMMARY:Private Meeting Small Dining Room
DESCRIPTION:
URL:https://bellevilleclub.ca/event/private-meeting-small-dining-room/
END:VEVENT
END:VCALENDAR