BEGIN:VCALENDAR
VERSION:2.0
PRODID:-//The Belleville Club - ECPv6.15.20//NONSGML v1.0//EN
CALSCALE:GREGORIAN
METHOD:PUBLISH
X-ORIGINAL-URL:https://bellevilleclub.ca
X-WR-CALDESC:Events for The Belleville Club
REFRESH-INTERVAL;VALUE=DURATION:PT1H
X-Robots-Tag:noindex
X-PUBLISHED-TTL:PT1H
BEGIN:VTIMEZONE
TZID:America/Toronto
BEGIN:DAYLIGHT
TZOFFSETFROM:-0500
TZOFFSETTO:-0400
TZNAME:EDT
DTSTART:20250309T070000
END:DAYLIGHT
BEGIN:STANDARD
TZOFFSETFROM:-0400
TZOFFSETTO:-0500
TZNAME:EST
DTSTART:20251102T060000
END:STANDARD
BEGIN:DAYLIGHT
TZOFFSETFROM:-0500
TZOFFSETTO:-0400
TZNAME:EDT
DTSTART:20260308T070000
END:DAYLIGHT
BEGIN:STANDARD
TZOFFSETFROM:-0400
TZOFFSETTO:-0500
TZNAME:EST
DTSTART:20261101T060000
END:STANDARD
BEGIN:DAYLIGHT
TZOFFSETFROM:-0500
TZOFFSETTO:-0400
TZNAME:EDT
DTSTART:20270314T070000
END:DAYLIGHT
BEGIN:STANDARD
TZOFFSETFROM:-0400
TZOFFSETTO:-0500
TZNAME:EST
DTSTART:20271107T060000
END:STANDARD
END:VTIMEZONE
BEGIN:VEVENT
DTSTART;TZID=America/Toronto:20260501T170000
DTEND;TZID=America/Toronto:20260501T233000
DTSTAMP:20260423T105743
CREATED:20260325T134814Z
LAST-MODIFIED:20260325T134814Z
UID:2822-1777654800-1777678200@bellevilleclub.ca
SUMMARY:Private Event
DESCRIPTION:
URL:https://bellevilleclub.ca/event/private-event-59/
END:VEVENT
BEGIN:VEVENT
DTSTART;TZID=America/Toronto:20260502T170000
DTEND;TZID=America/Toronto:20260502T233000
DTSTAMP:20260423T105743
CREATED:20260325T134847Z
LAST-MODIFIED:20260325T134847Z
UID:2824-1777741200-1777764600@bellevilleclub.ca
SUMMARY:Private Event
DESCRIPTION:
URL:https://bellevilleclub.ca/event/private-event-60/
END:VEVENT
BEGIN:VEVENT
DTSTART;TZID=America/Toronto:20260509T170000
DTEND;TZID=America/Toronto:20260509T233000
DTSTAMP:20260423T105743
CREATED:20260325T134923Z
LAST-MODIFIED:20260325T134923Z
UID:2826-1778346000-1778369400@bellevilleclub.ca
SUMMARY:Private Event
DESCRIPTION:
URL:https://bellevilleclub.ca/event/private-event-61/
END:VEVENT
BEGIN:VEVENT
DTSTART;TZID=America/Toronto:20260511T170000
DTEND;TZID=America/Toronto:20260511T210000
DTSTAMP:20260423T105743
CREATED:20260325T134955Z
LAST-MODIFIED:20260325T134955Z
UID:2828-1778518800-1778533200@bellevilleclub.ca
SUMMARY:Private Event
DESCRIPTION:
URL:https://bellevilleclub.ca/event/private-event-62/
END:VEVENT
BEGIN:VEVENT
DTSTART;TZID=America/Toronto:20260519T170000
DTEND;TZID=America/Toronto:20260519T200000
DTSTAMP:20260423T105743
CREATED:20260325T135214Z
LAST-MODIFIED:20260325T135214Z
UID:2832-1779210000-1779220800@bellevilleclub.ca
SUMMARY:Private Event Small Dining Room
DESCRIPTION:
URL:https://bellevilleclub.ca/event/private-event-small-dining-room-4/
END:VEVENT
BEGIN:VEVENT
DTSTART;TZID=America/Toronto:20260527T170000
DTEND;TZID=America/Toronto:20260527T210000
DTSTAMP:20260423T105743
CREATED:20260325T135259Z
LAST-MODIFIED:20260325T135259Z
UID:2834-1779901200-1779915600@bellevilleclub.ca
SUMMARY:Private Event
DESCRIPTION:
URL:https://bellevilleclub.ca/event/private-event-63/
END:VEVENT
BEGIN:VEVENT
DTSTART;TZID=America/Toronto:20260529T153000
DTEND;TZID=America/Toronto:20260529T190000
DTSTAMP:20260423T105743
CREATED:20260325T135334Z
LAST-MODIFIED:20260325T135334Z
UID:2836-1780068600-1780081200@bellevilleclub.ca
SUMMARY:Private Event
DESCRIPTION:
URL:https://bellevilleclub.ca/event/private-event-64/
END:VEVENT
BEGIN:VEVENT
DTSTART;TZID=America/Toronto:20260530T170000
DTEND;TZID=America/Toronto:20260530T233000
DTSTAMP:20260423T105743
CREATED:20260325T135404Z
LAST-MODIFIED:20260325T135404Z
UID:2838-1780160400-1780183800@bellevilleclub.ca
SUMMARY:Private Event
DESCRIPTION:
URL:https://bellevilleclub.ca/event/private-event-65/
END:VEVENT
END:VCALENDAR