BEGIN:VCALENDAR
VERSION:2.0
PRODID:-//The Belleville Club - ECPv6.15.20//NONSGML v1.0//EN
CALSCALE:GREGORIAN
METHOD:PUBLISH
X-ORIGINAL-URL:https://bellevilleclub.ca
X-WR-CALDESC:Events for The Belleville Club
REFRESH-INTERVAL;VALUE=DURATION:PT1H
X-Robots-Tag:noindex
X-PUBLISHED-TTL:PT1H
BEGIN:VTIMEZONE
TZID:America/Toronto
BEGIN:DAYLIGHT
TZOFFSETFROM:-0500
TZOFFSETTO:-0400
TZNAME:EDT
DTSTART:20250309T070000
END:DAYLIGHT
BEGIN:STANDARD
TZOFFSETFROM:-0400
TZOFFSETTO:-0500
TZNAME:EST
DTSTART:20251102T060000
END:STANDARD
BEGIN:DAYLIGHT
TZOFFSETFROM:-0500
TZOFFSETTO:-0400
TZNAME:EDT
DTSTART:20260308T070000
END:DAYLIGHT
BEGIN:STANDARD
TZOFFSETFROM:-0400
TZOFFSETTO:-0500
TZNAME:EST
DTSTART:20261101T060000
END:STANDARD
BEGIN:DAYLIGHT
TZOFFSETFROM:-0500
TZOFFSETTO:-0400
TZNAME:EDT
DTSTART:20270314T070000
END:DAYLIGHT
BEGIN:STANDARD
TZOFFSETFROM:-0400
TZOFFSETTO:-0500
TZNAME:EST
DTSTART:20271107T060000
END:STANDARD
END:VTIMEZONE
BEGIN:VEVENT
DTSTART;TZID=America/Toronto:20260905T000000
DTEND;TZID=America/Toronto:20260905T235959
DTSTAMP:20260424T103927
CREATED:20260325T135922Z
LAST-MODIFIED:20260325T135922Z
UID:2854-1788566400-1788652799@bellevilleclub.ca
SUMMARY:Wedding Full Club
DESCRIPTION:
URL:https://bellevilleclub.ca/event/wedding-full-club/
END:VEVENT
BEGIN:VEVENT
DTSTART;TZID=America/Toronto:20260912T170000
DTEND;TZID=America/Toronto:20260912T200000
DTSTAMP:20260424T103927
CREATED:20260325T135959Z
LAST-MODIFIED:20260325T135959Z
UID:2856-1789232400-1789243200@bellevilleclub.ca
SUMMARY:Blues Festival Open To Public
DESCRIPTION:
URL:https://bellevilleclub.ca/event/blues-festival-open-to-public/
END:VEVENT
BEGIN:VEVENT
DTSTART;TZID=America/Toronto:20260914T180000
DTEND;TZID=America/Toronto:20260914T220000
DTSTAMP:20260424T103927
CREATED:20260325T140033Z
LAST-MODIFIED:20260325T140033Z
UID:2858-1789408800-1789423200@bellevilleclub.ca
SUMMARY:100 Men
DESCRIPTION:
URL:https://bellevilleclub.ca/event/100-men-5/
END:VEVENT
BEGIN:VEVENT
DTSTART;TZID=America/Toronto:20260919T000000
DTEND;TZID=America/Toronto:20260919T235959
DTSTAMP:20260424T103927
CREATED:20260325T140103Z
LAST-MODIFIED:20260325T140103Z
UID:2860-1789776000-1789862399@bellevilleclub.ca
SUMMARY:Beautiful View
DESCRIPTION:
URL:https://bellevilleclub.ca/event/beautiful-view/
END:VEVENT
BEGIN:VEVENT
DTSTART;TZID=America/Toronto:20260922T170000
DTEND;TZID=America/Toronto:20260922T213000
DTSTAMP:20260424T103927
CREATED:20260325T140136Z
LAST-MODIFIED:20260325T140136Z
UID:2862-1790096400-1790112600@bellevilleclub.ca
SUMMARY:Private Event
DESCRIPTION:
URL:https://bellevilleclub.ca/event/private-event-71/
END:VEVENT
END:VCALENDAR