BEGIN:VCALENDAR
VERSION:2.0
PRODID:-//The Belleville Club - ECPv6.15.20//NONSGML v1.0//EN
CALSCALE:GREGORIAN
METHOD:PUBLISH
X-WR-CALNAME:The Belleville Club
X-ORIGINAL-URL:https://bellevilleclub.ca
X-WR-CALDESC:Events for The Belleville Club
REFRESH-INTERVAL;VALUE=DURATION:PT1H
X-Robots-Tag:noindex
X-PUBLISHED-TTL:PT1H
BEGIN:VTIMEZONE
TZID:America/Toronto
BEGIN:DAYLIGHT
TZOFFSETFROM:-0500
TZOFFSETTO:-0400
TZNAME:EDT
DTSTART:20250309T070000
END:DAYLIGHT
BEGIN:STANDARD
TZOFFSETFROM:-0400
TZOFFSETTO:-0500
TZNAME:EST
DTSTART:20251102T060000
END:STANDARD
BEGIN:DAYLIGHT
TZOFFSETFROM:-0500
TZOFFSETTO:-0400
TZNAME:EDT
DTSTART:20260308T070000
END:DAYLIGHT
BEGIN:STANDARD
TZOFFSETFROM:-0400
TZOFFSETTO:-0500
TZNAME:EST
DTSTART:20261101T060000
END:STANDARD
BEGIN:DAYLIGHT
TZOFFSETFROM:-0500
TZOFFSETTO:-0400
TZNAME:EDT
DTSTART:20270314T070000
END:DAYLIGHT
BEGIN:STANDARD
TZOFFSETFROM:-0400
TZOFFSETTO:-0500
TZNAME:EST
DTSTART:20271107T060000
END:STANDARD
END:VTIMEZONE
BEGIN:VEVENT
DTSTART;TZID=America/Toronto:20261003T160000
DTEND;TZID=America/Toronto:20261003T220000
DTSTAMP:20260424T115502
CREATED:20260325T140228Z
LAST-MODIFIED:20260325T140228Z
UID:2864-1791043200-1791064800@bellevilleclub.ca
SUMMARY:Wedding Dinner Small Dining Room
DESCRIPTION:
URL:https://bellevilleclub.ca/event/wedding-dinner-small-dining-room/
END:VEVENT
BEGIN:VEVENT
DTSTART;TZID=America/Toronto:20261017T000000
DTEND;TZID=America/Toronto:20261017T235959
DTSTAMP:20260424T115502
CREATED:20260325T140255Z
LAST-MODIFIED:20260325T140255Z
UID:2866-1792195200-1792281599@bellevilleclub.ca
SUMMARY:Wedding Full Club
DESCRIPTION:
URL:https://bellevilleclub.ca/event/wedding-full-club-2/
END:VEVENT
BEGIN:VEVENT
DTSTART;TZID=America/Toronto:20261024T170000
DTEND;TZID=America/Toronto:20261024T233000
DTSTAMP:20260424T115502
CREATED:20260423T174938Z
LAST-MODIFIED:20260423T174938Z
UID:2924-1792861200-1792884600@bellevilleclub.ca
SUMMARY:Private Event
DESCRIPTION:
URL:https://bellevilleclub.ca/event/private-event-86/
END:VEVENT
END:VCALENDAR